BEGIN:VCALENDAR
VERSION:2.0
PRODID:-//Freedom Bar - ECPv6.15.20//NONSGML v1.0//EN
CALSCALE:GREGORIAN
METHOD:PUBLISH
X-ORIGINAL-URL:https://freedombarsoho.com
X-WR-CALDESC:Events for Freedom Bar
REFRESH-INTERVAL;VALUE=DURATION:PT1H
X-Robots-Tag:noindex
X-PUBLISHED-TTL:PT1H
BEGIN:VTIMEZONE
TZID:Europe/London
BEGIN:DAYLIGHT
TZOFFSETFROM:+0000
TZOFFSETTO:+0100
TZNAME:BST
DTSTART:20220327T010000
END:DAYLIGHT
BEGIN:STANDARD
TZOFFSETFROM:+0100
TZOFFSETTO:+0000
TZNAME:GMT
DTSTART:20221030T010000
END:STANDARD
BEGIN:DAYLIGHT
TZOFFSETFROM:+0000
TZOFFSETTO:+0100
TZNAME:BST
DTSTART:20230326T010000
END:DAYLIGHT
BEGIN:STANDARD
TZOFFSETFROM:+0100
TZOFFSETTO:+0000
TZNAME:GMT
DTSTART:20231029T010000
END:STANDARD
BEGIN:DAYLIGHT
TZOFFSETFROM:+0000
TZOFFSETTO:+0100
TZNAME:BST
DTSTART:20240331T010000
END:DAYLIGHT
BEGIN:STANDARD
TZOFFSETFROM:+0100
TZOFFSETTO:+0000
TZNAME:GMT
DTSTART:20241027T010000
END:STANDARD
END:VTIMEZONE
BEGIN:VEVENT
DTSTART;TZID=Europe/London:20230109T220000
DTEND;TZID=Europe/London:20230110T030000
DTSTAMP:20260422T030322
CREATED:20230104T130025Z
LAST-MODIFIED:20230104T145941Z
UID:16379-1673301600-1673319600@freedombarsoho.com
SUMMARY:Kinky Kabaret
DESCRIPTION:Every Monday night\, the West End’s finest perform for their peers….singers\, drag\, expect the unexpected!!  Free Entry
URL:https://freedombarsoho.com/event/kinky-kabaret/2023-01-09/
LOCATION:Freedom Bar\, 66 Wardour Street\, London\, W1F 0TA\, United Kingdom
GEO:51.5128274;-0.1335658
X-APPLE-STRUCTURED-LOCATION;VALUE=URI;X-ADDRESS=Freedom Bar 66 Wardour Street London W1F 0TA United Kingdom;X-APPLE-RADIUS=500;X-TITLE=66 Wardour Street:geo:-0.1335658,51.5128274
END:VEVENT
END:VCALENDAR