BEGIN:VCALENDAR
VERSION:2.0
PRODID:-//Freedom Bar - ECPv6.15.20//NONSGML v1.0//EN
CALSCALE:GREGORIAN
METHOD:PUBLISH
X-WR-CALNAME:Freedom Bar
X-ORIGINAL-URL:https://freedombarsoho.com
X-WR-CALDESC:Events for Freedom Bar
REFRESH-INTERVAL;VALUE=DURATION:PT1H
X-Robots-Tag:noindex
X-PUBLISHED-TTL:PT1H
BEGIN:VTIMEZONE
TZID:Europe/London
BEGIN:DAYLIGHT
TZOFFSETFROM:+0000
TZOFFSETTO:+0100
TZNAME:BST
DTSTART:20240331T010000
END:DAYLIGHT
BEGIN:STANDARD
TZOFFSETFROM:+0100
TZOFFSETTO:+0000
TZNAME:GMT
DTSTART:20241027T010000
END:STANDARD
BEGIN:DAYLIGHT
TZOFFSETFROM:+0000
TZOFFSETTO:+0100
TZNAME:BST
DTSTART:20250330T010000
END:DAYLIGHT
BEGIN:STANDARD
TZOFFSETFROM:+0100
TZOFFSETTO:+0000
TZNAME:GMT
DTSTART:20251026T010000
END:STANDARD
BEGIN:DAYLIGHT
TZOFFSETFROM:+0000
TZOFFSETTO:+0100
TZNAME:BST
DTSTART:20260329T010000
END:DAYLIGHT
BEGIN:STANDARD
TZOFFSETFROM:+0100
TZOFFSETTO:+0000
TZNAME:GMT
DTSTART:20261025T010000
END:STANDARD
END:VTIMEZONE
BEGIN:VEVENT
DTSTART;TZID=Europe/London:20250606T220000
DTEND;TZID=Europe/London:20250607T030000
DTSTAMP:20260421T032035
CREATED:20241108T164033Z
LAST-MODIFIED:20241108T164033Z
UID:18553-1749247200-1749265200@freedombarsoho.com
SUMMARY:Freedom House Party
DESCRIPTION:You’ve made it to the weekend so time to have some fun at Freedom’s House Party! The best DJs will keep you dancing all night long…
URL:https://freedombarsoho.com/event/freedom-house-party/2025-06-06/
LOCATION:Freedom Bar\, 66 Wardour Street\, London\, W1F 0TA\, United Kingdom
GEO:51.5128274;-0.1335658
X-APPLE-STRUCTURED-LOCATION;VALUE=URI;X-ADDRESS=Freedom Bar 66 Wardour Street London W1F 0TA United Kingdom;X-APPLE-RADIUS=500;X-TITLE=66 Wardour Street:geo:-0.1335658,51.5128274
END:VEVENT
BEGIN:VEVENT
DTSTART;TZID=Europe/London:20250604T220000
DTEND;TZID=Europe/London:20250605T030000
DTSTAMP:20260421T032035
CREATED:20241108T163611Z
LAST-MODIFIED:20241108T163611Z
UID:18605-1749074400-1749092400@freedombarsoho.com
SUMMARY:High on Heels
DESCRIPTION:Our weekly celebration of Drag and Divas\, lipstick powder and paint\, lights\, cameras….ACTION!!
URL:https://freedombarsoho.com/event/high-on-heels-2/2025-06-04/
LOCATION:Freedom Bar\, 66 Wardour Street\, London\, W1F 0TA\, United Kingdom
GEO:51.5128274;-0.1335658
X-APPLE-STRUCTURED-LOCATION;VALUE=URI;X-ADDRESS=Freedom Bar 66 Wardour Street London W1F 0TA United Kingdom;X-APPLE-RADIUS=500;X-TITLE=66 Wardour Street:geo:-0.1335658,51.5128274
END:VEVENT
BEGIN:VEVENT
DTSTART;TZID=Europe/London:20250531T210000
DTEND;TZID=Europe/London:20250601T030000
DTSTAMP:20260421T032035
CREATED:20241108T162722Z
LAST-MODIFIED:20241108T162722Z
UID:18720-1748725200-1748746800@freedombarsoho.com
SUMMARY:FABULOUS!
DESCRIPTION:Saturday nights at Freedom are FABULOUS! Dress up\, shimmy down\, dance on the poles\, savour some cocktails and enjoy the best Soho Saturday night in town!  DJs playing til 3am \nOur cocktail Bar opens  from 4pm
URL:https://freedombarsoho.com/event/fabulous/2025-05-31/
LOCATION:Freedom Bar\, 66 Wardour Street\, London\, W1F 0TA\, United Kingdom
GEO:51.5128274;-0.1335658
X-APPLE-STRUCTURED-LOCATION;VALUE=URI;X-ADDRESS=Freedom Bar 66 Wardour Street London W1F 0TA United Kingdom;X-APPLE-RADIUS=500;X-TITLE=66 Wardour Street:geo:-0.1335658,51.5128274
END:VEVENT
BEGIN:VEVENT
DTSTART;TZID=Europe/London:20250530T220000
DTEND;TZID=Europe/London:20250531T030000
DTSTAMP:20260421T032035
CREATED:20241108T164033Z
LAST-MODIFIED:20241108T164033Z
UID:18552-1748642400-1748660400@freedombarsoho.com
SUMMARY:Freedom House Party
DESCRIPTION:You’ve made it to the weekend so time to have some fun at Freedom’s House Party! The best DJs will keep you dancing all night long…
URL:https://freedombarsoho.com/event/freedom-house-party/2025-05-30/
LOCATION:Freedom Bar\, 66 Wardour Street\, London\, W1F 0TA\, United Kingdom
GEO:51.5128274;-0.1335658
X-APPLE-STRUCTURED-LOCATION;VALUE=URI;X-ADDRESS=Freedom Bar 66 Wardour Street London W1F 0TA United Kingdom;X-APPLE-RADIUS=500;X-TITLE=66 Wardour Street:geo:-0.1335658,51.5128274
END:VEVENT
BEGIN:VEVENT
DTSTART;TZID=Europe/London:20250528T220000
DTEND;TZID=Europe/London:20250529T030000
DTSTAMP:20260421T032035
CREATED:20241108T163611Z
LAST-MODIFIED:20241108T163611Z
UID:18604-1748469600-1748487600@freedombarsoho.com
SUMMARY:High on Heels
DESCRIPTION:Our weekly celebration of Drag and Divas\, lipstick powder and paint\, lights\, cameras….ACTION!!
URL:https://freedombarsoho.com/event/high-on-heels-2/2025-05-28/
LOCATION:Freedom Bar\, 66 Wardour Street\, London\, W1F 0TA\, United Kingdom
GEO:51.5128274;-0.1335658
X-APPLE-STRUCTURED-LOCATION;VALUE=URI;X-ADDRESS=Freedom Bar 66 Wardour Street London W1F 0TA United Kingdom;X-APPLE-RADIUS=500;X-TITLE=66 Wardour Street:geo:-0.1335658,51.5128274
END:VEVENT
BEGIN:VEVENT
DTSTART;TZID=Europe/London:20250525T160000
DTEND;TZID=Europe/London:20250526T030000
DTSTAMP:20260421T032035
CREATED:20250515T155641Z
LAST-MODIFIED:20250515T155641Z
UID:18298-1748188800-1748228400@freedombarsoho.com
SUMMARY:Bank Holiday Weekend
DESCRIPTION:We will be open late every night including Sunday 25th May
URL:https://freedombarsoho.com/event/bank-holiday-weekend-2/
LOCATION:Freedom Bar\, 66 Wardour Street\, London\, W1F 0TA\, United Kingdom
GEO:51.5128274;-0.1335658
X-APPLE-STRUCTURED-LOCATION;VALUE=URI;X-ADDRESS=Freedom Bar 66 Wardour Street London W1F 0TA United Kingdom;X-APPLE-RADIUS=500;X-TITLE=66 Wardour Street:geo:-0.1335658,51.5128274
END:VEVENT
BEGIN:VEVENT
DTSTART;TZID=Europe/London:20250524T210000
DTEND;TZID=Europe/London:20250525T030000
DTSTAMP:20260421T032035
CREATED:20241108T162722Z
LAST-MODIFIED:20241108T162722Z
UID:18719-1748120400-1748142000@freedombarsoho.com
SUMMARY:FABULOUS!
DESCRIPTION:Saturday nights at Freedom are FABULOUS! Dress up\, shimmy down\, dance on the poles\, savour some cocktails and enjoy the best Soho Saturday night in town!  DJs playing til 3am \nOur cocktail Bar opens  from 4pm
URL:https://freedombarsoho.com/event/fabulous/2025-05-24/
LOCATION:Freedom Bar\, 66 Wardour Street\, London\, W1F 0TA\, United Kingdom
GEO:51.5128274;-0.1335658
X-APPLE-STRUCTURED-LOCATION;VALUE=URI;X-ADDRESS=Freedom Bar 66 Wardour Street London W1F 0TA United Kingdom;X-APPLE-RADIUS=500;X-TITLE=66 Wardour Street:geo:-0.1335658,51.5128274
END:VEVENT
BEGIN:VEVENT
DTSTART;TZID=Europe/London:20250523T220000
DTEND;TZID=Europe/London:20250524T030000
DTSTAMP:20260421T032035
CREATED:20241108T164033Z
LAST-MODIFIED:20241108T164033Z
UID:18551-1748037600-1748055600@freedombarsoho.com
SUMMARY:Freedom House Party
DESCRIPTION:You’ve made it to the weekend so time to have some fun at Freedom’s House Party! The best DJs will keep you dancing all night long…
URL:https://freedombarsoho.com/event/freedom-house-party/2025-05-23/
LOCATION:Freedom Bar\, 66 Wardour Street\, London\, W1F 0TA\, United Kingdom
GEO:51.5128274;-0.1335658
X-APPLE-STRUCTURED-LOCATION;VALUE=URI;X-ADDRESS=Freedom Bar 66 Wardour Street London W1F 0TA United Kingdom;X-APPLE-RADIUS=500;X-TITLE=66 Wardour Street:geo:-0.1335658,51.5128274
END:VEVENT
BEGIN:VEVENT
DTSTART;TZID=Europe/London:20250521T220000
DTEND;TZID=Europe/London:20250522T030000
DTSTAMP:20260421T032035
CREATED:20241108T163611Z
LAST-MODIFIED:20241108T163611Z
UID:18603-1747864800-1747882800@freedombarsoho.com
SUMMARY:High on Heels
DESCRIPTION:Our weekly celebration of Drag and Divas\, lipstick powder and paint\, lights\, cameras….ACTION!!
URL:https://freedombarsoho.com/event/high-on-heels-2/2025-05-21/
LOCATION:Freedom Bar\, 66 Wardour Street\, London\, W1F 0TA\, United Kingdom
GEO:51.5128274;-0.1335658
X-APPLE-STRUCTURED-LOCATION;VALUE=URI;X-ADDRESS=Freedom Bar 66 Wardour Street London W1F 0TA United Kingdom;X-APPLE-RADIUS=500;X-TITLE=66 Wardour Street:geo:-0.1335658,51.5128274
END:VEVENT
BEGIN:VEVENT
DTSTART;TZID=Europe/London:20250517T210000
DTEND;TZID=Europe/London:20250518T030000
DTSTAMP:20260421T032035
CREATED:20241108T162722Z
LAST-MODIFIED:20241108T162722Z
UID:18718-1747515600-1747537200@freedombarsoho.com
SUMMARY:FABULOUS!
DESCRIPTION:Saturday nights at Freedom are FABULOUS! Dress up\, shimmy down\, dance on the poles\, savour some cocktails and enjoy the best Soho Saturday night in town!  DJs playing til 3am \nOur cocktail Bar opens  from 4pm
URL:https://freedombarsoho.com/event/fabulous/2025-05-17/
LOCATION:Freedom Bar\, 66 Wardour Street\, London\, W1F 0TA\, United Kingdom
GEO:51.5128274;-0.1335658
X-APPLE-STRUCTURED-LOCATION;VALUE=URI;X-ADDRESS=Freedom Bar 66 Wardour Street London W1F 0TA United Kingdom;X-APPLE-RADIUS=500;X-TITLE=66 Wardour Street:geo:-0.1335658,51.5128274
END:VEVENT
BEGIN:VEVENT
DTSTART;TZID=Europe/London:20250516T220000
DTEND;TZID=Europe/London:20250517T030000
DTSTAMP:20260421T032035
CREATED:20241108T164033Z
LAST-MODIFIED:20241108T164033Z
UID:18550-1747432800-1747450800@freedombarsoho.com
SUMMARY:Freedom House Party
DESCRIPTION:You’ve made it to the weekend so time to have some fun at Freedom’s House Party! The best DJs will keep you dancing all night long…
URL:https://freedombarsoho.com/event/freedom-house-party/2025-05-16/
LOCATION:Freedom Bar\, 66 Wardour Street\, London\, W1F 0TA\, United Kingdom
GEO:51.5128274;-0.1335658
X-APPLE-STRUCTURED-LOCATION;VALUE=URI;X-ADDRESS=Freedom Bar 66 Wardour Street London W1F 0TA United Kingdom;X-APPLE-RADIUS=500;X-TITLE=66 Wardour Street:geo:-0.1335658,51.5128274
END:VEVENT
BEGIN:VEVENT
DTSTART;TZID=Europe/London:20250514T220000
DTEND;TZID=Europe/London:20250515T030000
DTSTAMP:20260421T032035
CREATED:20241108T163611Z
LAST-MODIFIED:20241108T163611Z
UID:18602-1747260000-1747278000@freedombarsoho.com
SUMMARY:High on Heels
DESCRIPTION:Our weekly celebration of Drag and Divas\, lipstick powder and paint\, lights\, cameras….ACTION!!
URL:https://freedombarsoho.com/event/high-on-heels-2/2025-05-14/
LOCATION:Freedom Bar\, 66 Wardour Street\, London\, W1F 0TA\, United Kingdom
GEO:51.5128274;-0.1335658
X-APPLE-STRUCTURED-LOCATION;VALUE=URI;X-ADDRESS=Freedom Bar 66 Wardour Street London W1F 0TA United Kingdom;X-APPLE-RADIUS=500;X-TITLE=66 Wardour Street:geo:-0.1335658,51.5128274
END:VEVENT
BEGIN:VEVENT
DTSTART;TZID=Europe/London:20250510T210000
DTEND;TZID=Europe/London:20250511T030000
DTSTAMP:20260421T032035
CREATED:20241108T162722Z
LAST-MODIFIED:20241108T162722Z
UID:18717-1746910800-1746932400@freedombarsoho.com
SUMMARY:FABULOUS!
DESCRIPTION:Saturday nights at Freedom are FABULOUS! Dress up\, shimmy down\, dance on the poles\, savour some cocktails and enjoy the best Soho Saturday night in town!  DJs playing til 3am \nOur cocktail Bar opens  from 4pm
URL:https://freedombarsoho.com/event/fabulous/2025-05-10/
LOCATION:Freedom Bar\, 66 Wardour Street\, London\, W1F 0TA\, United Kingdom
GEO:51.5128274;-0.1335658
X-APPLE-STRUCTURED-LOCATION;VALUE=URI;X-ADDRESS=Freedom Bar 66 Wardour Street London W1F 0TA United Kingdom;X-APPLE-RADIUS=500;X-TITLE=66 Wardour Street:geo:-0.1335658,51.5128274
END:VEVENT
BEGIN:VEVENT
DTSTART;TZID=Europe/London:20250509T220000
DTEND;TZID=Europe/London:20250510T030000
DTSTAMP:20260421T032035
CREATED:20241108T164033Z
LAST-MODIFIED:20241108T164033Z
UID:18549-1746828000-1746846000@freedombarsoho.com
SUMMARY:Freedom House Party
DESCRIPTION:You’ve made it to the weekend so time to have some fun at Freedom’s House Party! The best DJs will keep you dancing all night long…
URL:https://freedombarsoho.com/event/freedom-house-party/2025-05-09/
LOCATION:Freedom Bar\, 66 Wardour Street\, London\, W1F 0TA\, United Kingdom
GEO:51.5128274;-0.1335658
X-APPLE-STRUCTURED-LOCATION;VALUE=URI;X-ADDRESS=Freedom Bar 66 Wardour Street London W1F 0TA United Kingdom;X-APPLE-RADIUS=500;X-TITLE=66 Wardour Street:geo:-0.1335658,51.5128274
END:VEVENT
BEGIN:VEVENT
DTSTART;TZID=Europe/London:20250507T220000
DTEND;TZID=Europe/London:20250508T030000
DTSTAMP:20260421T032035
CREATED:20241108T163611Z
LAST-MODIFIED:20241108T163611Z
UID:18601-1746655200-1746673200@freedombarsoho.com
SUMMARY:High on Heels
DESCRIPTION:Our weekly celebration of Drag and Divas\, lipstick powder and paint\, lights\, cameras….ACTION!!
URL:https://freedombarsoho.com/event/high-on-heels-2/2025-05-07/
LOCATION:Freedom Bar\, 66 Wardour Street\, London\, W1F 0TA\, United Kingdom
GEO:51.5128274;-0.1335658
X-APPLE-STRUCTURED-LOCATION;VALUE=URI;X-ADDRESS=Freedom Bar 66 Wardour Street London W1F 0TA United Kingdom;X-APPLE-RADIUS=500;X-TITLE=66 Wardour Street:geo:-0.1335658,51.5128274
END:VEVENT
BEGIN:VEVENT
DTSTART;TZID=Europe/London:20250503T210000
DTEND;TZID=Europe/London:20250504T030000
DTSTAMP:20260421T032035
CREATED:20241108T162722Z
LAST-MODIFIED:20241108T162722Z
UID:18716-1746306000-1746327600@freedombarsoho.com
SUMMARY:FABULOUS!
DESCRIPTION:Saturday nights at Freedom are FABULOUS! Dress up\, shimmy down\, dance on the poles\, savour some cocktails and enjoy the best Soho Saturday night in town!  DJs playing til 3am \nOur cocktail Bar opens  from 4pm
URL:https://freedombarsoho.com/event/fabulous/2025-05-03/
LOCATION:Freedom Bar\, 66 Wardour Street\, London\, W1F 0TA\, United Kingdom
GEO:51.5128274;-0.1335658
X-APPLE-STRUCTURED-LOCATION;VALUE=URI;X-ADDRESS=Freedom Bar 66 Wardour Street London W1F 0TA United Kingdom;X-APPLE-RADIUS=500;X-TITLE=66 Wardour Street:geo:-0.1335658,51.5128274
END:VEVENT
BEGIN:VEVENT
DTSTART;TZID=Europe/London:20250502T220000
DTEND;TZID=Europe/London:20250503T030000
DTSTAMP:20260421T032035
CREATED:20241108T164033Z
LAST-MODIFIED:20241108T164033Z
UID:18548-1746223200-1746241200@freedombarsoho.com
SUMMARY:Freedom House Party
DESCRIPTION:You’ve made it to the weekend so time to have some fun at Freedom’s House Party! The best DJs will keep you dancing all night long…
URL:https://freedombarsoho.com/event/freedom-house-party/2025-05-02/
LOCATION:Freedom Bar\, 66 Wardour Street\, London\, W1F 0TA\, United Kingdom
GEO:51.5128274;-0.1335658
X-APPLE-STRUCTURED-LOCATION;VALUE=URI;X-ADDRESS=Freedom Bar 66 Wardour Street London W1F 0TA United Kingdom;X-APPLE-RADIUS=500;X-TITLE=66 Wardour Street:geo:-0.1335658,51.5128274
END:VEVENT
BEGIN:VEVENT
DTSTART;TZID=Europe/London:20250430T220000
DTEND;TZID=Europe/London:20250501T030000
DTSTAMP:20260421T032035
CREATED:20241108T163611Z
LAST-MODIFIED:20241108T163611Z
UID:18600-1746050400-1746068400@freedombarsoho.com
SUMMARY:High on Heels
DESCRIPTION:Our weekly celebration of Drag and Divas\, lipstick powder and paint\, lights\, cameras….ACTION!!
URL:https://freedombarsoho.com/event/high-on-heels-2/2025-04-30/
LOCATION:Freedom Bar\, 66 Wardour Street\, London\, W1F 0TA\, United Kingdom
GEO:51.5128274;-0.1335658
X-APPLE-STRUCTURED-LOCATION;VALUE=URI;X-ADDRESS=Freedom Bar 66 Wardour Street London W1F 0TA United Kingdom;X-APPLE-RADIUS=500;X-TITLE=66 Wardour Street:geo:-0.1335658,51.5128274
END:VEVENT
BEGIN:VEVENT
DTSTART;TZID=Europe/London:20250426T210000
DTEND;TZID=Europe/London:20250427T030000
DTSTAMP:20260421T032035
CREATED:20241108T162722Z
LAST-MODIFIED:20241108T162722Z
UID:18715-1745701200-1745722800@freedombarsoho.com
SUMMARY:FABULOUS!
DESCRIPTION:Saturday nights at Freedom are FABULOUS! Dress up\, shimmy down\, dance on the poles\, savour some cocktails and enjoy the best Soho Saturday night in town!  DJs playing til 3am \nOur cocktail Bar opens  from 4pm
URL:https://freedombarsoho.com/event/fabulous/2025-04-26/
LOCATION:Freedom Bar\, 66 Wardour Street\, London\, W1F 0TA\, United Kingdom
GEO:51.5128274;-0.1335658
X-APPLE-STRUCTURED-LOCATION;VALUE=URI;X-ADDRESS=Freedom Bar 66 Wardour Street London W1F 0TA United Kingdom;X-APPLE-RADIUS=500;X-TITLE=66 Wardour Street:geo:-0.1335658,51.5128274
END:VEVENT
BEGIN:VEVENT
DTSTART;TZID=Europe/London:20250425T220000
DTEND;TZID=Europe/London:20250426T030000
DTSTAMP:20260421T032035
CREATED:20241108T164033Z
LAST-MODIFIED:20241108T164033Z
UID:18547-1745618400-1745636400@freedombarsoho.com
SUMMARY:Freedom House Party
DESCRIPTION:You’ve made it to the weekend so time to have some fun at Freedom’s House Party! The best DJs will keep you dancing all night long…
URL:https://freedombarsoho.com/event/freedom-house-party/2025-04-25/
LOCATION:Freedom Bar\, 66 Wardour Street\, London\, W1F 0TA\, United Kingdom
GEO:51.5128274;-0.1335658
X-APPLE-STRUCTURED-LOCATION;VALUE=URI;X-ADDRESS=Freedom Bar 66 Wardour Street London W1F 0TA United Kingdom;X-APPLE-RADIUS=500;X-TITLE=66 Wardour Street:geo:-0.1335658,51.5128274
END:VEVENT
BEGIN:VEVENT
DTSTART;TZID=Europe/London:20250423T220000
DTEND;TZID=Europe/London:20250424T030000
DTSTAMP:20260421T032035
CREATED:20241108T163611Z
LAST-MODIFIED:20241108T163611Z
UID:18599-1745445600-1745463600@freedombarsoho.com
SUMMARY:High on Heels
DESCRIPTION:Our weekly celebration of Drag and Divas\, lipstick powder and paint\, lights\, cameras….ACTION!!
URL:https://freedombarsoho.com/event/high-on-heels-2/2025-04-23/
LOCATION:Freedom Bar\, 66 Wardour Street\, London\, W1F 0TA\, United Kingdom
GEO:51.5128274;-0.1335658
X-APPLE-STRUCTURED-LOCATION;VALUE=URI;X-ADDRESS=Freedom Bar 66 Wardour Street London W1F 0TA United Kingdom;X-APPLE-RADIUS=500;X-TITLE=66 Wardour Street:geo:-0.1335658,51.5128274
END:VEVENT
BEGIN:VEVENT
DTSTART;TZID=Europe/London:20250420T160000
DTEND;TZID=Europe/London:20250421T030000
DTSTAMP:20260421T032035
CREATED:20250415T115626Z
LAST-MODIFIED:20250415T115626Z
UID:18276-1745164800-1745204400@freedombarsoho.com
SUMMARY:Bank Holiday Sunday
DESCRIPTION:We will be open late so come join the PARTY!
URL:https://freedombarsoho.com/event/bank-holiday-sunday/
LOCATION:Freedom Bar\, 66 Wardour Street\, London\, W1F 0TA\, United Kingdom
GEO:51.5128274;-0.1335658
X-APPLE-STRUCTURED-LOCATION;VALUE=URI;X-ADDRESS=Freedom Bar 66 Wardour Street London W1F 0TA United Kingdom;X-APPLE-RADIUS=500;X-TITLE=66 Wardour Street:geo:-0.1335658,51.5128274
END:VEVENT
BEGIN:VEVENT
DTSTART;TZID=Europe/London:20250419T210000
DTEND;TZID=Europe/London:20250420T030000
DTSTAMP:20260421T032035
CREATED:20241108T162722Z
LAST-MODIFIED:20241108T162722Z
UID:18714-1745096400-1745118000@freedombarsoho.com
SUMMARY:FABULOUS!
DESCRIPTION:Saturday nights at Freedom are FABULOUS! Dress up\, shimmy down\, dance on the poles\, savour some cocktails and enjoy the best Soho Saturday night in town!  DJs playing til 3am \nOur cocktail Bar opens  from 4pm
URL:https://freedombarsoho.com/event/fabulous/2025-04-19/
LOCATION:Freedom Bar\, 66 Wardour Street\, London\, W1F 0TA\, United Kingdom
GEO:51.5128274;-0.1335658
X-APPLE-STRUCTURED-LOCATION;VALUE=URI;X-ADDRESS=Freedom Bar 66 Wardour Street London W1F 0TA United Kingdom;X-APPLE-RADIUS=500;X-TITLE=66 Wardour Street:geo:-0.1335658,51.5128274
END:VEVENT
BEGIN:VEVENT
DTSTART;TZID=Europe/London:20250418T220000
DTEND;TZID=Europe/London:20250419T030000
DTSTAMP:20260421T032035
CREATED:20241108T164033Z
LAST-MODIFIED:20241108T164033Z
UID:18546-1745013600-1745031600@freedombarsoho.com
SUMMARY:Freedom House Party
DESCRIPTION:You’ve made it to the weekend so time to have some fun at Freedom’s House Party! The best DJs will keep you dancing all night long…
URL:https://freedombarsoho.com/event/freedom-house-party/2025-04-18/
LOCATION:Freedom Bar\, 66 Wardour Street\, London\, W1F 0TA\, United Kingdom
GEO:51.5128274;-0.1335658
X-APPLE-STRUCTURED-LOCATION;VALUE=URI;X-ADDRESS=Freedom Bar 66 Wardour Street London W1F 0TA United Kingdom;X-APPLE-RADIUS=500;X-TITLE=66 Wardour Street:geo:-0.1335658,51.5128274
END:VEVENT
BEGIN:VEVENT
DTSTART;TZID=Europe/London:20250416T220000
DTEND;TZID=Europe/London:20250417T030000
DTSTAMP:20260421T032035
CREATED:20241108T163611Z
LAST-MODIFIED:20241108T163611Z
UID:18598-1744840800-1744858800@freedombarsoho.com
SUMMARY:High on Heels
DESCRIPTION:Our weekly celebration of Drag and Divas\, lipstick powder and paint\, lights\, cameras….ACTION!!
URL:https://freedombarsoho.com/event/high-on-heels-2/2025-04-16/
LOCATION:Freedom Bar\, 66 Wardour Street\, London\, W1F 0TA\, United Kingdom
GEO:51.5128274;-0.1335658
X-APPLE-STRUCTURED-LOCATION;VALUE=URI;X-ADDRESS=Freedom Bar 66 Wardour Street London W1F 0TA United Kingdom;X-APPLE-RADIUS=500;X-TITLE=66 Wardour Street:geo:-0.1335658,51.5128274
END:VEVENT
BEGIN:VEVENT
DTSTART;TZID=Europe/London:20250412T210000
DTEND;TZID=Europe/London:20250413T030000
DTSTAMP:20260421T032035
CREATED:20241108T162722Z
LAST-MODIFIED:20241108T162722Z
UID:18713-1744491600-1744513200@freedombarsoho.com
SUMMARY:FABULOUS!
DESCRIPTION:Saturday nights at Freedom are FABULOUS! Dress up\, shimmy down\, dance on the poles\, savour some cocktails and enjoy the best Soho Saturday night in town!  DJs playing til 3am \nOur cocktail Bar opens  from 4pm
URL:https://freedombarsoho.com/event/fabulous/2025-04-12/
LOCATION:Freedom Bar\, 66 Wardour Street\, London\, W1F 0TA\, United Kingdom
GEO:51.5128274;-0.1335658
X-APPLE-STRUCTURED-LOCATION;VALUE=URI;X-ADDRESS=Freedom Bar 66 Wardour Street London W1F 0TA United Kingdom;X-APPLE-RADIUS=500;X-TITLE=66 Wardour Street:geo:-0.1335658,51.5128274
END:VEVENT
BEGIN:VEVENT
DTSTART;TZID=Europe/London:20250411T220000
DTEND;TZID=Europe/London:20250412T030000
DTSTAMP:20260421T032035
CREATED:20241108T164033Z
LAST-MODIFIED:20241108T164033Z
UID:18545-1744408800-1744426800@freedombarsoho.com
SUMMARY:Freedom House Party
DESCRIPTION:You’ve made it to the weekend so time to have some fun at Freedom’s House Party! The best DJs will keep you dancing all night long…
URL:https://freedombarsoho.com/event/freedom-house-party/2025-04-11/
LOCATION:Freedom Bar\, 66 Wardour Street\, London\, W1F 0TA\, United Kingdom
GEO:51.5128274;-0.1335658
X-APPLE-STRUCTURED-LOCATION;VALUE=URI;X-ADDRESS=Freedom Bar 66 Wardour Street London W1F 0TA United Kingdom;X-APPLE-RADIUS=500;X-TITLE=66 Wardour Street:geo:-0.1335658,51.5128274
END:VEVENT
BEGIN:VEVENT
DTSTART;TZID=Europe/London:20250409T220000
DTEND;TZID=Europe/London:20250410T030000
DTSTAMP:20260421T032035
CREATED:20241108T163611Z
LAST-MODIFIED:20241108T163611Z
UID:18597-1744236000-1744254000@freedombarsoho.com
SUMMARY:High on Heels
DESCRIPTION:Our weekly celebration of Drag and Divas\, lipstick powder and paint\, lights\, cameras….ACTION!!
URL:https://freedombarsoho.com/event/high-on-heels-2/2025-04-09/
LOCATION:Freedom Bar\, 66 Wardour Street\, London\, W1F 0TA\, United Kingdom
GEO:51.5128274;-0.1335658
X-APPLE-STRUCTURED-LOCATION;VALUE=URI;X-ADDRESS=Freedom Bar 66 Wardour Street London W1F 0TA United Kingdom;X-APPLE-RADIUS=500;X-TITLE=66 Wardour Street:geo:-0.1335658,51.5128274
END:VEVENT
BEGIN:VEVENT
DTSTART;TZID=Europe/London:20250405T210000
DTEND;TZID=Europe/London:20250406T030000
DTSTAMP:20260421T032035
CREATED:20241108T162722Z
LAST-MODIFIED:20241108T162722Z
UID:18712-1743886800-1743908400@freedombarsoho.com
SUMMARY:FABULOUS!
DESCRIPTION:Saturday nights at Freedom are FABULOUS! Dress up\, shimmy down\, dance on the poles\, savour some cocktails and enjoy the best Soho Saturday night in town!  DJs playing til 3am \nOur cocktail Bar opens  from 4pm
URL:https://freedombarsoho.com/event/fabulous/2025-04-05/
LOCATION:Freedom Bar\, 66 Wardour Street\, London\, W1F 0TA\, United Kingdom
GEO:51.5128274;-0.1335658
X-APPLE-STRUCTURED-LOCATION;VALUE=URI;X-ADDRESS=Freedom Bar 66 Wardour Street London W1F 0TA United Kingdom;X-APPLE-RADIUS=500;X-TITLE=66 Wardour Street:geo:-0.1335658,51.5128274
END:VEVENT
BEGIN:VEVENT
DTSTART;TZID=Europe/London:20250404T220000
DTEND;TZID=Europe/London:20250405T030000
DTSTAMP:20260421T032035
CREATED:20241108T164033Z
LAST-MODIFIED:20241108T164033Z
UID:18544-1743804000-1743822000@freedombarsoho.com
SUMMARY:Freedom House Party
DESCRIPTION:You’ve made it to the weekend so time to have some fun at Freedom’s House Party! The best DJs will keep you dancing all night long…
URL:https://freedombarsoho.com/event/freedom-house-party/2025-04-04/
LOCATION:Freedom Bar\, 66 Wardour Street\, London\, W1F 0TA\, United Kingdom
GEO:51.5128274;-0.1335658
X-APPLE-STRUCTURED-LOCATION;VALUE=URI;X-ADDRESS=Freedom Bar 66 Wardour Street London W1F 0TA United Kingdom;X-APPLE-RADIUS=500;X-TITLE=66 Wardour Street:geo:-0.1335658,51.5128274
END:VEVENT
END:VCALENDAR