BEGIN:VCALENDAR
VERSION:2.0
PRODID:-//Freedom Bar - ECPv6.15.20//NONSGML v1.0//EN
CALSCALE:GREGORIAN
METHOD:PUBLISH
X-WR-CALNAME:Freedom Bar
X-ORIGINAL-URL:https://freedombarsoho.com
X-WR-CALDESC:Events for Freedom Bar
REFRESH-INTERVAL;VALUE=DURATION:PT1H
X-Robots-Tag:noindex
X-PUBLISHED-TTL:PT1H
BEGIN:VTIMEZONE
TZID:Europe/London
BEGIN:DAYLIGHT
TZOFFSETFROM:+0000
TZOFFSETTO:+0100
TZNAME:BST
DTSTART:20240331T010000
END:DAYLIGHT
BEGIN:STANDARD
TZOFFSETFROM:+0100
TZOFFSETTO:+0000
TZNAME:GMT
DTSTART:20241027T010000
END:STANDARD
BEGIN:DAYLIGHT
TZOFFSETFROM:+0000
TZOFFSETTO:+0100
TZNAME:BST
DTSTART:20250330T010000
END:DAYLIGHT
BEGIN:STANDARD
TZOFFSETFROM:+0100
TZOFFSETTO:+0000
TZNAME:GMT
DTSTART:20251026T010000
END:STANDARD
BEGIN:DAYLIGHT
TZOFFSETFROM:+0000
TZOFFSETTO:+0100
TZNAME:BST
DTSTART:20260329T010000
END:DAYLIGHT
BEGIN:STANDARD
TZOFFSETFROM:+0100
TZOFFSETTO:+0000
TZNAME:GMT
DTSTART:20261025T010000
END:STANDARD
END:VTIMEZONE
BEGIN:VEVENT
DTSTART;TZID=Europe/London:20250423T220000
DTEND;TZID=Europe/London:20250424T030000
DTSTAMP:20260421T064615
CREATED:20241108T163611Z
LAST-MODIFIED:20241108T163611Z
UID:18599-1745445600-1745463600@freedombarsoho.com
SUMMARY:High on Heels
DESCRIPTION:Our weekly celebration of Drag and Divas\, lipstick powder and paint\, lights\, cameras….ACTION!!
URL:https://freedombarsoho.com/event/high-on-heels-2/2025-04-23/
LOCATION:Freedom Bar\, 66 Wardour Street\, London\, W1F 0TA\, United Kingdom
GEO:51.5128274;-0.1335658
X-APPLE-STRUCTURED-LOCATION;VALUE=URI;X-ADDRESS=Freedom Bar 66 Wardour Street London W1F 0TA United Kingdom;X-APPLE-RADIUS=500;X-TITLE=66 Wardour Street:geo:-0.1335658,51.5128274
END:VEVENT
BEGIN:VEVENT
DTSTART;TZID=Europe/London:20250420T160000
DTEND;TZID=Europe/London:20250421T030000
DTSTAMP:20260421T064616
CREATED:20250415T115626Z
LAST-MODIFIED:20250415T115626Z
UID:18276-1745164800-1745204400@freedombarsoho.com
SUMMARY:Bank Holiday Sunday
DESCRIPTION:We will be open late so come join the PARTY!
URL:https://freedombarsoho.com/event/bank-holiday-sunday/
LOCATION:Freedom Bar\, 66 Wardour Street\, London\, W1F 0TA\, United Kingdom
GEO:51.5128274;-0.1335658
X-APPLE-STRUCTURED-LOCATION;VALUE=URI;X-ADDRESS=Freedom Bar 66 Wardour Street London W1F 0TA United Kingdom;X-APPLE-RADIUS=500;X-TITLE=66 Wardour Street:geo:-0.1335658,51.5128274
END:VEVENT
BEGIN:VEVENT
DTSTART;TZID=Europe/London:20250419T210000
DTEND;TZID=Europe/London:20250420T030000
DTSTAMP:20260421T064616
CREATED:20241108T162722Z
LAST-MODIFIED:20241108T162722Z
UID:18714-1745096400-1745118000@freedombarsoho.com
SUMMARY:FABULOUS!
DESCRIPTION:Saturday nights at Freedom are FABULOUS! Dress up\, shimmy down\, dance on the poles\, savour some cocktails and enjoy the best Soho Saturday night in town!  DJs playing til 3am \nOur cocktail Bar opens  from 4pm
URL:https://freedombarsoho.com/event/fabulous/2025-04-19/
LOCATION:Freedom Bar\, 66 Wardour Street\, London\, W1F 0TA\, United Kingdom
GEO:51.5128274;-0.1335658
X-APPLE-STRUCTURED-LOCATION;VALUE=URI;X-ADDRESS=Freedom Bar 66 Wardour Street London W1F 0TA United Kingdom;X-APPLE-RADIUS=500;X-TITLE=66 Wardour Street:geo:-0.1335658,51.5128274
END:VEVENT
BEGIN:VEVENT
DTSTART;TZID=Europe/London:20250418T220000
DTEND;TZID=Europe/London:20250419T030000
DTSTAMP:20260421T064616
CREATED:20241108T164033Z
LAST-MODIFIED:20241108T164033Z
UID:18546-1745013600-1745031600@freedombarsoho.com
SUMMARY:Freedom House Party
DESCRIPTION:You’ve made it to the weekend so time to have some fun at Freedom’s House Party! The best DJs will keep you dancing all night long…
URL:https://freedombarsoho.com/event/freedom-house-party/2025-04-18/
LOCATION:Freedom Bar\, 66 Wardour Street\, London\, W1F 0TA\, United Kingdom
GEO:51.5128274;-0.1335658
X-APPLE-STRUCTURED-LOCATION;VALUE=URI;X-ADDRESS=Freedom Bar 66 Wardour Street London W1F 0TA United Kingdom;X-APPLE-RADIUS=500;X-TITLE=66 Wardour Street:geo:-0.1335658,51.5128274
END:VEVENT
BEGIN:VEVENT
DTSTART;TZID=Europe/London:20250416T220000
DTEND;TZID=Europe/London:20250417T030000
DTSTAMP:20260421T064616
CREATED:20241108T163611Z
LAST-MODIFIED:20241108T163611Z
UID:18598-1744840800-1744858800@freedombarsoho.com
SUMMARY:High on Heels
DESCRIPTION:Our weekly celebration of Drag and Divas\, lipstick powder and paint\, lights\, cameras….ACTION!!
URL:https://freedombarsoho.com/event/high-on-heels-2/2025-04-16/
LOCATION:Freedom Bar\, 66 Wardour Street\, London\, W1F 0TA\, United Kingdom
GEO:51.5128274;-0.1335658
X-APPLE-STRUCTURED-LOCATION;VALUE=URI;X-ADDRESS=Freedom Bar 66 Wardour Street London W1F 0TA United Kingdom;X-APPLE-RADIUS=500;X-TITLE=66 Wardour Street:geo:-0.1335658,51.5128274
END:VEVENT
BEGIN:VEVENT
DTSTART;TZID=Europe/London:20250412T210000
DTEND;TZID=Europe/London:20250413T030000
DTSTAMP:20260421T064616
CREATED:20241108T162722Z
LAST-MODIFIED:20241108T162722Z
UID:18713-1744491600-1744513200@freedombarsoho.com
SUMMARY:FABULOUS!
DESCRIPTION:Saturday nights at Freedom are FABULOUS! Dress up\, shimmy down\, dance on the poles\, savour some cocktails and enjoy the best Soho Saturday night in town!  DJs playing til 3am \nOur cocktail Bar opens  from 4pm
URL:https://freedombarsoho.com/event/fabulous/2025-04-12/
LOCATION:Freedom Bar\, 66 Wardour Street\, London\, W1F 0TA\, United Kingdom
GEO:51.5128274;-0.1335658
X-APPLE-STRUCTURED-LOCATION;VALUE=URI;X-ADDRESS=Freedom Bar 66 Wardour Street London W1F 0TA United Kingdom;X-APPLE-RADIUS=500;X-TITLE=66 Wardour Street:geo:-0.1335658,51.5128274
END:VEVENT
BEGIN:VEVENT
DTSTART;TZID=Europe/London:20250411T220000
DTEND;TZID=Europe/London:20250412T030000
DTSTAMP:20260421T064616
CREATED:20241108T164033Z
LAST-MODIFIED:20241108T164033Z
UID:18545-1744408800-1744426800@freedombarsoho.com
SUMMARY:Freedom House Party
DESCRIPTION:You’ve made it to the weekend so time to have some fun at Freedom’s House Party! The best DJs will keep you dancing all night long…
URL:https://freedombarsoho.com/event/freedom-house-party/2025-04-11/
LOCATION:Freedom Bar\, 66 Wardour Street\, London\, W1F 0TA\, United Kingdom
GEO:51.5128274;-0.1335658
X-APPLE-STRUCTURED-LOCATION;VALUE=URI;X-ADDRESS=Freedom Bar 66 Wardour Street London W1F 0TA United Kingdom;X-APPLE-RADIUS=500;X-TITLE=66 Wardour Street:geo:-0.1335658,51.5128274
END:VEVENT
BEGIN:VEVENT
DTSTART;TZID=Europe/London:20250409T220000
DTEND;TZID=Europe/London:20250410T030000
DTSTAMP:20260421T064616
CREATED:20241108T163611Z
LAST-MODIFIED:20241108T163611Z
UID:18597-1744236000-1744254000@freedombarsoho.com
SUMMARY:High on Heels
DESCRIPTION:Our weekly celebration of Drag and Divas\, lipstick powder and paint\, lights\, cameras….ACTION!!
URL:https://freedombarsoho.com/event/high-on-heels-2/2025-04-09/
LOCATION:Freedom Bar\, 66 Wardour Street\, London\, W1F 0TA\, United Kingdom
GEO:51.5128274;-0.1335658
X-APPLE-STRUCTURED-LOCATION;VALUE=URI;X-ADDRESS=Freedom Bar 66 Wardour Street London W1F 0TA United Kingdom;X-APPLE-RADIUS=500;X-TITLE=66 Wardour Street:geo:-0.1335658,51.5128274
END:VEVENT
BEGIN:VEVENT
DTSTART;TZID=Europe/London:20250405T210000
DTEND;TZID=Europe/London:20250406T030000
DTSTAMP:20260421T064616
CREATED:20241108T162722Z
LAST-MODIFIED:20241108T162722Z
UID:18712-1743886800-1743908400@freedombarsoho.com
SUMMARY:FABULOUS!
DESCRIPTION:Saturday nights at Freedom are FABULOUS! Dress up\, shimmy down\, dance on the poles\, savour some cocktails and enjoy the best Soho Saturday night in town!  DJs playing til 3am \nOur cocktail Bar opens  from 4pm
URL:https://freedombarsoho.com/event/fabulous/2025-04-05/
LOCATION:Freedom Bar\, 66 Wardour Street\, London\, W1F 0TA\, United Kingdom
GEO:51.5128274;-0.1335658
X-APPLE-STRUCTURED-LOCATION;VALUE=URI;X-ADDRESS=Freedom Bar 66 Wardour Street London W1F 0TA United Kingdom;X-APPLE-RADIUS=500;X-TITLE=66 Wardour Street:geo:-0.1335658,51.5128274
END:VEVENT
BEGIN:VEVENT
DTSTART;TZID=Europe/London:20250404T220000
DTEND;TZID=Europe/London:20250405T030000
DTSTAMP:20260421T064616
CREATED:20241108T164033Z
LAST-MODIFIED:20241108T164033Z
UID:18544-1743804000-1743822000@freedombarsoho.com
SUMMARY:Freedom House Party
DESCRIPTION:You’ve made it to the weekend so time to have some fun at Freedom’s House Party! The best DJs will keep you dancing all night long…
URL:https://freedombarsoho.com/event/freedom-house-party/2025-04-04/
LOCATION:Freedom Bar\, 66 Wardour Street\, London\, W1F 0TA\, United Kingdom
GEO:51.5128274;-0.1335658
X-APPLE-STRUCTURED-LOCATION;VALUE=URI;X-ADDRESS=Freedom Bar 66 Wardour Street London W1F 0TA United Kingdom;X-APPLE-RADIUS=500;X-TITLE=66 Wardour Street:geo:-0.1335658,51.5128274
END:VEVENT
BEGIN:VEVENT
DTSTART;TZID=Europe/London:20250402T220000
DTEND;TZID=Europe/London:20250403T030000
DTSTAMP:20260421T064616
CREATED:20241108T163611Z
LAST-MODIFIED:20241108T163611Z
UID:18596-1743631200-1743649200@freedombarsoho.com
SUMMARY:High on Heels
DESCRIPTION:Our weekly celebration of Drag and Divas\, lipstick powder and paint\, lights\, cameras….ACTION!!
URL:https://freedombarsoho.com/event/high-on-heels-2/2025-04-02/
LOCATION:Freedom Bar\, 66 Wardour Street\, London\, W1F 0TA\, United Kingdom
GEO:51.5128274;-0.1335658
X-APPLE-STRUCTURED-LOCATION;VALUE=URI;X-ADDRESS=Freedom Bar 66 Wardour Street London W1F 0TA United Kingdom;X-APPLE-RADIUS=500;X-TITLE=66 Wardour Street:geo:-0.1335658,51.5128274
END:VEVENT
BEGIN:VEVENT
DTSTART;TZID=Europe/London:20250331T190000
DTEND;TZID=Europe/London:20250331T210000
DTSTAMP:20260421T064616
CREATED:20250123T141831Z
LAST-MODIFIED:20250123T141831Z
UID:18220-1743447600-1743454800@freedombarsoho.com
SUMMARY:Musical Drag Bingo
DESCRIPTION:Join our fabulous Drag Host every Monday at Freedom for a night of musical bingo\, fun-filled games\, lip-syncs\, performances and Monday mayhem to start your week in style. \nTotal Drag Glamour and drama every week; Miss Sophia Stardust hosting on 27th January\, Venus Everest hosting on 3rd February and Miss Mercedes Bends hosting on 10th February! \nEnjoy Happy Hour hour drinks from 4pm – 8pm \n£7.50 ticket includes Pornstar Martini (or mocktail of you choice) and your chance to win cocktails\, make-up and a £100 bar tab \nMake a night of it and stay for our fabulous Kinky Kabaret where the stars of the West End perform hosted by Carl Mullaney.
URL:https://freedombarsoho.com/event/musical-drag-bingo/2025-03-31/
LOCATION:Freedom Bar\, 66 Wardour Street\, London\, W1F 0TA\, United Kingdom
GEO:51.5128274;-0.1335658
X-APPLE-STRUCTURED-LOCATION;VALUE=URI;X-ADDRESS=Freedom Bar 66 Wardour Street London W1F 0TA United Kingdom;X-APPLE-RADIUS=500;X-TITLE=66 Wardour Street:geo:-0.1335658,51.5128274
END:VEVENT
BEGIN:VEVENT
DTSTART;TZID=Europe/London:20250329T210000
DTEND;TZID=Europe/London:20250330T030000
DTSTAMP:20260421T064616
CREATED:20241108T162722Z
LAST-MODIFIED:20241108T162722Z
UID:18711-1743282000-1743303600@freedombarsoho.com
SUMMARY:FABULOUS!
DESCRIPTION:Saturday nights at Freedom are FABULOUS! Dress up\, shimmy down\, dance on the poles\, savour some cocktails and enjoy the best Soho Saturday night in town!  DJs playing til 3am \nOur cocktail Bar opens  from 4pm
URL:https://freedombarsoho.com/event/fabulous/2025-03-29/
LOCATION:Freedom Bar\, 66 Wardour Street\, London\, W1F 0TA\, United Kingdom
GEO:51.5128274;-0.1335658
X-APPLE-STRUCTURED-LOCATION;VALUE=URI;X-ADDRESS=Freedom Bar 66 Wardour Street London W1F 0TA United Kingdom;X-APPLE-RADIUS=500;X-TITLE=66 Wardour Street:geo:-0.1335658,51.5128274
END:VEVENT
BEGIN:VEVENT
DTSTART;TZID=Europe/London:20250326T220000
DTEND;TZID=Europe/London:20250327T030000
DTSTAMP:20260421T064616
CREATED:20241108T163611Z
LAST-MODIFIED:20241108T163611Z
UID:18595-1743026400-1743044400@freedombarsoho.com
SUMMARY:High on Heels
DESCRIPTION:Our weekly celebration of Drag and Divas\, lipstick powder and paint\, lights\, cameras….ACTION!!
URL:https://freedombarsoho.com/event/high-on-heels-2/2025-03-26/
LOCATION:Freedom Bar\, 66 Wardour Street\, London\, W1F 0TA\, United Kingdom
GEO:51.5128274;-0.1335658
X-APPLE-STRUCTURED-LOCATION;VALUE=URI;X-ADDRESS=Freedom Bar 66 Wardour Street London W1F 0TA United Kingdom;X-APPLE-RADIUS=500;X-TITLE=66 Wardour Street:geo:-0.1335658,51.5128274
END:VEVENT
BEGIN:VEVENT
DTSTART;TZID=Europe/London:20250324T190000
DTEND;TZID=Europe/London:20250324T210000
DTSTAMP:20260421T064616
CREATED:20250123T141831Z
LAST-MODIFIED:20250123T141831Z
UID:18219-1742842800-1742850000@freedombarsoho.com
SUMMARY:Musical Drag Bingo
DESCRIPTION:Join our fabulous Drag Host every Monday at Freedom for a night of musical bingo\, fun-filled games\, lip-syncs\, performances and Monday mayhem to start your week in style. \nTotal Drag Glamour and drama every week; Miss Sophia Stardust hosting on 27th January\, Venus Everest hosting on 3rd February and Miss Mercedes Bends hosting on 10th February! \nEnjoy Happy Hour hour drinks from 4pm – 8pm \n£7.50 ticket includes Pornstar Martini (or mocktail of you choice) and your chance to win cocktails\, make-up and a £100 bar tab \nMake a night of it and stay for our fabulous Kinky Kabaret where the stars of the West End perform hosted by Carl Mullaney.
URL:https://freedombarsoho.com/event/musical-drag-bingo/2025-03-24/
LOCATION:Freedom Bar\, 66 Wardour Street\, London\, W1F 0TA\, United Kingdom
GEO:51.5128274;-0.1335658
X-APPLE-STRUCTURED-LOCATION;VALUE=URI;X-ADDRESS=Freedom Bar 66 Wardour Street London W1F 0TA United Kingdom;X-APPLE-RADIUS=500;X-TITLE=66 Wardour Street:geo:-0.1335658,51.5128274
END:VEVENT
BEGIN:VEVENT
DTSTART;TZID=Europe/London:20250322T210000
DTEND;TZID=Europe/London:20250323T030000
DTSTAMP:20260421T064616
CREATED:20241108T162722Z
LAST-MODIFIED:20241108T162722Z
UID:18710-1742677200-1742698800@freedombarsoho.com
SUMMARY:FABULOUS!
DESCRIPTION:Saturday nights at Freedom are FABULOUS! Dress up\, shimmy down\, dance on the poles\, savour some cocktails and enjoy the best Soho Saturday night in town!  DJs playing til 3am \nOur cocktail Bar opens  from 4pm
URL:https://freedombarsoho.com/event/fabulous/2025-03-22/
LOCATION:Freedom Bar\, 66 Wardour Street\, London\, W1F 0TA\, United Kingdom
GEO:51.5128274;-0.1335658
X-APPLE-STRUCTURED-LOCATION;VALUE=URI;X-ADDRESS=Freedom Bar 66 Wardour Street London W1F 0TA United Kingdom;X-APPLE-RADIUS=500;X-TITLE=66 Wardour Street:geo:-0.1335658,51.5128274
END:VEVENT
BEGIN:VEVENT
DTSTART;TZID=Europe/London:20250319T220000
DTEND;TZID=Europe/London:20250320T030000
DTSTAMP:20260421T064616
CREATED:20241108T163611Z
LAST-MODIFIED:20241108T163611Z
UID:18594-1742421600-1742439600@freedombarsoho.com
SUMMARY:High on Heels
DESCRIPTION:Our weekly celebration of Drag and Divas\, lipstick powder and paint\, lights\, cameras….ACTION!!
URL:https://freedombarsoho.com/event/high-on-heels-2/2025-03-19/
LOCATION:Freedom Bar\, 66 Wardour Street\, London\, W1F 0TA\, United Kingdom
GEO:51.5128274;-0.1335658
X-APPLE-STRUCTURED-LOCATION;VALUE=URI;X-ADDRESS=Freedom Bar 66 Wardour Street London W1F 0TA United Kingdom;X-APPLE-RADIUS=500;X-TITLE=66 Wardour Street:geo:-0.1335658,51.5128274
END:VEVENT
BEGIN:VEVENT
DTSTART;TZID=Europe/London:20250317T190000
DTEND;TZID=Europe/London:20250317T210000
DTSTAMP:20260421T064616
CREATED:20250123T141831Z
LAST-MODIFIED:20250123T141831Z
UID:18218-1742238000-1742245200@freedombarsoho.com
SUMMARY:Musical Drag Bingo
DESCRIPTION:Join our fabulous Drag Host every Monday at Freedom for a night of musical bingo\, fun-filled games\, lip-syncs\, performances and Monday mayhem to start your week in style. \nTotal Drag Glamour and drama every week; Miss Sophia Stardust hosting on 27th January\, Venus Everest hosting on 3rd February and Miss Mercedes Bends hosting on 10th February! \nEnjoy Happy Hour hour drinks from 4pm – 8pm \n£7.50 ticket includes Pornstar Martini (or mocktail of you choice) and your chance to win cocktails\, make-up and a £100 bar tab \nMake a night of it and stay for our fabulous Kinky Kabaret where the stars of the West End perform hosted by Carl Mullaney.
URL:https://freedombarsoho.com/event/musical-drag-bingo/2025-03-17/
LOCATION:Freedom Bar\, 66 Wardour Street\, London\, W1F 0TA\, United Kingdom
GEO:51.5128274;-0.1335658
X-APPLE-STRUCTURED-LOCATION;VALUE=URI;X-ADDRESS=Freedom Bar 66 Wardour Street London W1F 0TA United Kingdom;X-APPLE-RADIUS=500;X-TITLE=66 Wardour Street:geo:-0.1335658,51.5128274
END:VEVENT
BEGIN:VEVENT
DTSTART;TZID=Europe/London:20250315T210000
DTEND;TZID=Europe/London:20250316T030000
DTSTAMP:20260421T064616
CREATED:20241108T162722Z
LAST-MODIFIED:20241108T162722Z
UID:18709-1742072400-1742094000@freedombarsoho.com
SUMMARY:FABULOUS!
DESCRIPTION:Saturday nights at Freedom are FABULOUS! Dress up\, shimmy down\, dance on the poles\, savour some cocktails and enjoy the best Soho Saturday night in town!  DJs playing til 3am \nOur cocktail Bar opens  from 4pm
URL:https://freedombarsoho.com/event/fabulous/2025-03-15/
LOCATION:Freedom Bar\, 66 Wardour Street\, London\, W1F 0TA\, United Kingdom
GEO:51.5128274;-0.1335658
X-APPLE-STRUCTURED-LOCATION;VALUE=URI;X-ADDRESS=Freedom Bar 66 Wardour Street London W1F 0TA United Kingdom;X-APPLE-RADIUS=500;X-TITLE=66 Wardour Street:geo:-0.1335658,51.5128274
END:VEVENT
BEGIN:VEVENT
DTSTART;TZID=Europe/London:20250312T220000
DTEND;TZID=Europe/London:20250313T030000
DTSTAMP:20260421T064616
CREATED:20241108T163611Z
LAST-MODIFIED:20241108T163611Z
UID:18593-1741816800-1741834800@freedombarsoho.com
SUMMARY:High on Heels
DESCRIPTION:Our weekly celebration of Drag and Divas\, lipstick powder and paint\, lights\, cameras….ACTION!!
URL:https://freedombarsoho.com/event/high-on-heels-2/2025-03-12/
LOCATION:Freedom Bar\, 66 Wardour Street\, London\, W1F 0TA\, United Kingdom
GEO:51.5128274;-0.1335658
X-APPLE-STRUCTURED-LOCATION;VALUE=URI;X-ADDRESS=Freedom Bar 66 Wardour Street London W1F 0TA United Kingdom;X-APPLE-RADIUS=500;X-TITLE=66 Wardour Street:geo:-0.1335658,51.5128274
END:VEVENT
BEGIN:VEVENT
DTSTART;TZID=Europe/London:20250310T190000
DTEND;TZID=Europe/London:20250310T210000
DTSTAMP:20260421T064616
CREATED:20250123T141831Z
LAST-MODIFIED:20250123T141831Z
UID:18217-1741633200-1741640400@freedombarsoho.com
SUMMARY:Musical Drag Bingo
DESCRIPTION:Join our fabulous Drag Host every Monday at Freedom for a night of musical bingo\, fun-filled games\, lip-syncs\, performances and Monday mayhem to start your week in style. \nTotal Drag Glamour and drama every week; Miss Sophia Stardust hosting on 27th January\, Venus Everest hosting on 3rd February and Miss Mercedes Bends hosting on 10th February! \nEnjoy Happy Hour hour drinks from 4pm – 8pm \n£7.50 ticket includes Pornstar Martini (or mocktail of you choice) and your chance to win cocktails\, make-up and a £100 bar tab \nMake a night of it and stay for our fabulous Kinky Kabaret where the stars of the West End perform hosted by Carl Mullaney.
URL:https://freedombarsoho.com/event/musical-drag-bingo/2025-03-10/
LOCATION:Freedom Bar\, 66 Wardour Street\, London\, W1F 0TA\, United Kingdom
GEO:51.5128274;-0.1335658
X-APPLE-STRUCTURED-LOCATION;VALUE=URI;X-ADDRESS=Freedom Bar 66 Wardour Street London W1F 0TA United Kingdom;X-APPLE-RADIUS=500;X-TITLE=66 Wardour Street:geo:-0.1335658,51.5128274
END:VEVENT
BEGIN:VEVENT
DTSTART;TZID=Europe/London:20250308T210000
DTEND;TZID=Europe/London:20250309T030000
DTSTAMP:20260421T064616
CREATED:20241108T162722Z
LAST-MODIFIED:20241108T162722Z
UID:18708-1741467600-1741489200@freedombarsoho.com
SUMMARY:FABULOUS!
DESCRIPTION:Saturday nights at Freedom are FABULOUS! Dress up\, shimmy down\, dance on the poles\, savour some cocktails and enjoy the best Soho Saturday night in town!  DJs playing til 3am \nOur cocktail Bar opens  from 4pm
URL:https://freedombarsoho.com/event/fabulous/2025-03-08/
LOCATION:Freedom Bar\, 66 Wardour Street\, London\, W1F 0TA\, United Kingdom
GEO:51.5128274;-0.1335658
X-APPLE-STRUCTURED-LOCATION;VALUE=URI;X-ADDRESS=Freedom Bar 66 Wardour Street London W1F 0TA United Kingdom;X-APPLE-RADIUS=500;X-TITLE=66 Wardour Street:geo:-0.1335658,51.5128274
END:VEVENT
BEGIN:VEVENT
DTSTART;TZID=Europe/London:20250306T220000
DTEND;TZID=Europe/London:20250307T030000
DTSTAMP:20260421T064616
CREATED:20241108T164211Z
LAST-MODIFIED:20241108T164211Z
UID:18483-1741298400-1741316400@freedombarsoho.com
SUMMARY:Chic!
DESCRIPTION:Hosted by Carl Mullaney\, this is a night to don the sequins and hit the dance floor to the very best in DISCO\, RnB and club classics\, dance floor fillers!
URL:https://freedombarsoho.com/event/chic/2025-03-06/
LOCATION:Freedom Bar\, 66 Wardour Street\, London\, W1F 0TA\, United Kingdom
GEO:51.5128274;-0.1335658
X-APPLE-STRUCTURED-LOCATION;VALUE=URI;X-ADDRESS=Freedom Bar 66 Wardour Street London W1F 0TA United Kingdom;X-APPLE-RADIUS=500;X-TITLE=66 Wardour Street:geo:-0.1335658,51.5128274
END:VEVENT
BEGIN:VEVENT
DTSTART;TZID=Europe/London:20250305T220000
DTEND;TZID=Europe/London:20250306T030000
DTSTAMP:20260421T064616
CREATED:20241108T163611Z
LAST-MODIFIED:20241108T163611Z
UID:18592-1741212000-1741230000@freedombarsoho.com
SUMMARY:High on Heels
DESCRIPTION:Our weekly celebration of Drag and Divas\, lipstick powder and paint\, lights\, cameras….ACTION!!
URL:https://freedombarsoho.com/event/high-on-heels-2/2025-03-05/
LOCATION:Freedom Bar\, 66 Wardour Street\, London\, W1F 0TA\, United Kingdom
GEO:51.5128274;-0.1335658
X-APPLE-STRUCTURED-LOCATION;VALUE=URI;X-ADDRESS=Freedom Bar 66 Wardour Street London W1F 0TA United Kingdom;X-APPLE-RADIUS=500;X-TITLE=66 Wardour Street:geo:-0.1335658,51.5128274
END:VEVENT
BEGIN:VEVENT
DTSTART;TZID=Europe/London:20250304T220000
DTEND;TZID=Europe/London:20250305T030000
DTSTAMP:20260421T064616
CREATED:20241108T163411Z
LAST-MODIFIED:20241108T163411Z
UID:18499-1741125600-1741143600@freedombarsoho.com
SUMMARY:Anthems
DESCRIPTION:WEst End singers perform the songs that have been the soundtrack ton your lives\, the stand out Anthems that transport you.
URL:https://freedombarsoho.com/event/anthems/2025-03-04/
LOCATION:Freedom Bar\, 66 Wardour Street\, London\, W1F 0TA\, United Kingdom
GEO:51.5128274;-0.1335658
X-APPLE-STRUCTURED-LOCATION;VALUE=URI;X-ADDRESS=Freedom Bar 66 Wardour Street London W1F 0TA United Kingdom;X-APPLE-RADIUS=500;X-TITLE=66 Wardour Street:geo:-0.1335658,51.5128274
END:VEVENT
BEGIN:VEVENT
DTSTART;TZID=Europe/London:20250303T190000
DTEND;TZID=Europe/London:20250303T210000
DTSTAMP:20260421T064616
CREATED:20250123T141831Z
LAST-MODIFIED:20250123T141831Z
UID:18216-1741028400-1741035600@freedombarsoho.com
SUMMARY:Musical Drag Bingo
DESCRIPTION:Join our fabulous Drag Host every Monday at Freedom for a night of musical bingo\, fun-filled games\, lip-syncs\, performances and Monday mayhem to start your week in style. \nTotal Drag Glamour and drama every week; Miss Sophia Stardust hosting on 27th January\, Venus Everest hosting on 3rd February and Miss Mercedes Bends hosting on 10th February! \nEnjoy Happy Hour hour drinks from 4pm – 8pm \n£7.50 ticket includes Pornstar Martini (or mocktail of you choice) and your chance to win cocktails\, make-up and a £100 bar tab \nMake a night of it and stay for our fabulous Kinky Kabaret where the stars of the West End perform hosted by Carl Mullaney.
URL:https://freedombarsoho.com/event/musical-drag-bingo/2025-03-03/
LOCATION:Freedom Bar\, 66 Wardour Street\, London\, W1F 0TA\, United Kingdom
GEO:51.5128274;-0.1335658
X-APPLE-STRUCTURED-LOCATION;VALUE=URI;X-ADDRESS=Freedom Bar 66 Wardour Street London W1F 0TA United Kingdom;X-APPLE-RADIUS=500;X-TITLE=66 Wardour Street:geo:-0.1335658,51.5128274
END:VEVENT
BEGIN:VEVENT
DTSTART;TZID=Europe/London:20250301T210000
DTEND;TZID=Europe/London:20250302T030000
DTSTAMP:20260421T064616
CREATED:20241108T162722Z
LAST-MODIFIED:20241108T162722Z
UID:18707-1740862800-1740884400@freedombarsoho.com
SUMMARY:FABULOUS!
DESCRIPTION:Saturday nights at Freedom are FABULOUS! Dress up\, shimmy down\, dance on the poles\, savour some cocktails and enjoy the best Soho Saturday night in town!  DJs playing til 3am \nOur cocktail Bar opens  from 4pm
URL:https://freedombarsoho.com/event/fabulous/2025-03-01/
LOCATION:Freedom Bar\, 66 Wardour Street\, London\, W1F 0TA\, United Kingdom
GEO:51.5128274;-0.1335658
X-APPLE-STRUCTURED-LOCATION;VALUE=URI;X-ADDRESS=Freedom Bar 66 Wardour Street London W1F 0TA United Kingdom;X-APPLE-RADIUS=500;X-TITLE=66 Wardour Street:geo:-0.1335658,51.5128274
END:VEVENT
BEGIN:VEVENT
DTSTART;TZID=Europe/London:20250227T220000
DTEND;TZID=Europe/London:20250228T030000
DTSTAMP:20260421T064616
CREATED:20241108T164211Z
LAST-MODIFIED:20241108T164211Z
UID:18482-1740693600-1740711600@freedombarsoho.com
SUMMARY:Chic!
DESCRIPTION:Hosted by Carl Mullaney\, this is a night to don the sequins and hit the dance floor to the very best in DISCO\, RnB and club classics\, dance floor fillers!
URL:https://freedombarsoho.com/event/chic/2025-02-27/
LOCATION:Freedom Bar\, 66 Wardour Street\, London\, W1F 0TA\, United Kingdom
GEO:51.5128274;-0.1335658
X-APPLE-STRUCTURED-LOCATION;VALUE=URI;X-ADDRESS=Freedom Bar 66 Wardour Street London W1F 0TA United Kingdom;X-APPLE-RADIUS=500;X-TITLE=66 Wardour Street:geo:-0.1335658,51.5128274
END:VEVENT
BEGIN:VEVENT
DTSTART;TZID=Europe/London:20250226T220000
DTEND;TZID=Europe/London:20250227T030000
DTSTAMP:20260421T064616
CREATED:20241108T163611Z
LAST-MODIFIED:20241108T163611Z
UID:18591-1740607200-1740625200@freedombarsoho.com
SUMMARY:High on Heels
DESCRIPTION:Our weekly celebration of Drag and Divas\, lipstick powder and paint\, lights\, cameras….ACTION!!
URL:https://freedombarsoho.com/event/high-on-heels-2/2025-02-26/
LOCATION:Freedom Bar\, 66 Wardour Street\, London\, W1F 0TA\, United Kingdom
GEO:51.5128274;-0.1335658
X-APPLE-STRUCTURED-LOCATION;VALUE=URI;X-ADDRESS=Freedom Bar 66 Wardour Street London W1F 0TA United Kingdom;X-APPLE-RADIUS=500;X-TITLE=66 Wardour Street:geo:-0.1335658,51.5128274
END:VEVENT
BEGIN:VEVENT
DTSTART;TZID=Europe/London:20250225T220000
DTEND;TZID=Europe/London:20250226T030000
DTSTAMP:20260421T064616
CREATED:20241108T163411Z
LAST-MODIFIED:20241108T163411Z
UID:18498-1740520800-1740538800@freedombarsoho.com
SUMMARY:Anthems
DESCRIPTION:WEst End singers perform the songs that have been the soundtrack ton your lives\, the stand out Anthems that transport you.
URL:https://freedombarsoho.com/event/anthems/2025-02-25/
LOCATION:Freedom Bar\, 66 Wardour Street\, London\, W1F 0TA\, United Kingdom
GEO:51.5128274;-0.1335658
X-APPLE-STRUCTURED-LOCATION;VALUE=URI;X-ADDRESS=Freedom Bar 66 Wardour Street London W1F 0TA United Kingdom;X-APPLE-RADIUS=500;X-TITLE=66 Wardour Street:geo:-0.1335658,51.5128274
END:VEVENT
END:VCALENDAR