BEGIN:VCALENDAR
VERSION:2.0
PRODID:-//Freedom Bar - ECPv6.15.20//NONSGML v1.0//EN
CALSCALE:GREGORIAN
METHOD:PUBLISH
X-WR-CALNAME:Freedom Bar
X-ORIGINAL-URL:https://freedombarsoho.com
X-WR-CALDESC:Events for Freedom Bar
REFRESH-INTERVAL;VALUE=DURATION:PT1H
X-Robots-Tag:noindex
X-PUBLISHED-TTL:PT1H
BEGIN:VTIMEZONE
TZID:Europe/London
BEGIN:DAYLIGHT
TZOFFSETFROM:+0000
TZOFFSETTO:+0100
TZNAME:BST
DTSTART:20230326T010000
END:DAYLIGHT
BEGIN:STANDARD
TZOFFSETFROM:+0100
TZOFFSETTO:+0000
TZNAME:GMT
DTSTART:20231029T010000
END:STANDARD
BEGIN:DAYLIGHT
TZOFFSETFROM:+0000
TZOFFSETTO:+0100
TZNAME:BST
DTSTART:20240331T010000
END:DAYLIGHT
BEGIN:STANDARD
TZOFFSETFROM:+0100
TZOFFSETTO:+0000
TZNAME:GMT
DTSTART:20241027T010000
END:STANDARD
BEGIN:DAYLIGHT
TZOFFSETFROM:+0000
TZOFFSETTO:+0100
TZNAME:BST
DTSTART:20250330T010000
END:DAYLIGHT
BEGIN:STANDARD
TZOFFSETFROM:+0100
TZOFFSETTO:+0000
TZNAME:GMT
DTSTART:20251026T010000
END:STANDARD
END:VTIMEZONE
BEGIN:VEVENT
DTSTART;TZID=Europe/London:20241226T220000
DTEND;TZID=Europe/London:20241227T030000
DTSTAMP:20260421T184528
CREATED:20241108T164211Z
LAST-MODIFIED:20241108T164211Z
UID:18473-1735250400-1735268400@freedombarsoho.com
SUMMARY:Chic!
DESCRIPTION:Hosted by Carl Mullaney\, this is a night to don the sequins and hit the dance floor to the very best in DISCO\, RnB and club classics\, dance floor fillers!
URL:https://freedombarsoho.com/event/chic/2024-12-26/
LOCATION:Freedom Bar\, 66 Wardour Street\, London\, W1F 0TA\, United Kingdom
GEO:51.5128274;-0.1335658
X-APPLE-STRUCTURED-LOCATION;VALUE=URI;X-ADDRESS=Freedom Bar 66 Wardour Street London W1F 0TA United Kingdom;X-APPLE-RADIUS=500;X-TITLE=66 Wardour Street:geo:-0.1335658,51.5128274
END:VEVENT
BEGIN:VEVENT
DTSTART;TZID=Europe/London:20241225T220000
DTEND;TZID=Europe/London:20241226T030000
DTSTAMP:20260421T184528
CREATED:20241108T163611Z
LAST-MODIFIED:20241108T163611Z
UID:18582-1735164000-1735182000@freedombarsoho.com
SUMMARY:High on Heels
DESCRIPTION:Our weekly celebration of Drag and Divas\, lipstick powder and paint\, lights\, cameras….ACTION!!
URL:https://freedombarsoho.com/event/high-on-heels-2/2024-12-25/
LOCATION:Freedom Bar\, 66 Wardour Street\, London\, W1F 0TA\, United Kingdom
GEO:51.5128274;-0.1335658
X-APPLE-STRUCTURED-LOCATION;VALUE=URI;X-ADDRESS=Freedom Bar 66 Wardour Street London W1F 0TA United Kingdom;X-APPLE-RADIUS=500;X-TITLE=66 Wardour Street:geo:-0.1335658,51.5128274
END:VEVENT
BEGIN:VEVENT
DTSTART;TZID=Europe/London:20241224T220000
DTEND;TZID=Europe/London:20241225T030000
DTSTAMP:20260421T184528
CREATED:20241108T163411Z
LAST-MODIFIED:20241108T163411Z
UID:18489-1735077600-1735095600@freedombarsoho.com
SUMMARY:Anthems
DESCRIPTION:WEst End singers perform the songs that have been the soundtrack ton your lives\, the stand out Anthems that transport you.
URL:https://freedombarsoho.com/event/anthems/2024-12-24/
LOCATION:Freedom Bar\, 66 Wardour Street\, London\, W1F 0TA\, United Kingdom
GEO:51.5128274;-0.1335658
X-APPLE-STRUCTURED-LOCATION;VALUE=URI;X-ADDRESS=Freedom Bar 66 Wardour Street London W1F 0TA United Kingdom;X-APPLE-RADIUS=500;X-TITLE=66 Wardour Street:geo:-0.1335658,51.5128274
END:VEVENT
BEGIN:VEVENT
DTSTART;TZID=Europe/London:20241221T210000
DTEND;TZID=Europe/London:20241222T030000
DTSTAMP:20260421T184528
CREATED:20241108T162722Z
LAST-MODIFIED:20250630T123505Z
UID:18697-1734814800-1734836400@freedombarsoho.com
SUMMARY:FABULOUS!
DESCRIPTION:Saturday nights at Freedom are FABULOUS! Dress up\, shimmy down\, dance on the poles\, savour some cocktails and enjoy the best Soho Saturday night in town!  DJs playing til 3am \nOur cocktail Bar opens  from 4pm
URL:https://freedombarsoho.com/event/fabulous/2024-12-21/
LOCATION:Freedom Bar\, 66 Wardour Street\, London\, W1F 0TA\, United Kingdom
GEO:51.5128274;-0.1335658
X-APPLE-STRUCTURED-LOCATION;VALUE=URI;X-ADDRESS=Freedom Bar 66 Wardour Street London W1F 0TA United Kingdom;X-APPLE-RADIUS=500;X-TITLE=66 Wardour Street:geo:-0.1335658,51.5128274
END:VEVENT
BEGIN:VEVENT
DTSTART;TZID=Europe/London:20241219T220000
DTEND;TZID=Europe/London:20241220T030000
DTSTAMP:20260421T184528
CREATED:20241108T164211Z
LAST-MODIFIED:20241108T164211Z
UID:18472-1734645600-1734663600@freedombarsoho.com
SUMMARY:Chic!
DESCRIPTION:Hosted by Carl Mullaney\, this is a night to don the sequins and hit the dance floor to the very best in DISCO\, RnB and club classics\, dance floor fillers!
URL:https://freedombarsoho.com/event/chic/2024-12-19/
LOCATION:Freedom Bar\, 66 Wardour Street\, London\, W1F 0TA\, United Kingdom
GEO:51.5128274;-0.1335658
X-APPLE-STRUCTURED-LOCATION;VALUE=URI;X-ADDRESS=Freedom Bar 66 Wardour Street London W1F 0TA United Kingdom;X-APPLE-RADIUS=500;X-TITLE=66 Wardour Street:geo:-0.1335658,51.5128274
END:VEVENT
BEGIN:VEVENT
DTSTART;TZID=Europe/London:20241218T220000
DTEND;TZID=Europe/London:20241219T030000
DTSTAMP:20260421T184528
CREATED:20241108T163611Z
LAST-MODIFIED:20241108T163611Z
UID:18581-1734559200-1734577200@freedombarsoho.com
SUMMARY:High on Heels
DESCRIPTION:Our weekly celebration of Drag and Divas\, lipstick powder and paint\, lights\, cameras….ACTION!!
URL:https://freedombarsoho.com/event/high-on-heels-2/2024-12-18/
LOCATION:Freedom Bar\, 66 Wardour Street\, London\, W1F 0TA\, United Kingdom
GEO:51.5128274;-0.1335658
X-APPLE-STRUCTURED-LOCATION;VALUE=URI;X-ADDRESS=Freedom Bar 66 Wardour Street London W1F 0TA United Kingdom;X-APPLE-RADIUS=500;X-TITLE=66 Wardour Street:geo:-0.1335658,51.5128274
END:VEVENT
BEGIN:VEVENT
DTSTART;TZID=Europe/London:20241217T220000
DTEND;TZID=Europe/London:20241218T030000
DTSTAMP:20260421T184528
CREATED:20241108T163411Z
LAST-MODIFIED:20241108T163411Z
UID:18488-1734472800-1734490800@freedombarsoho.com
SUMMARY:Anthems
DESCRIPTION:WEst End singers perform the songs that have been the soundtrack ton your lives\, the stand out Anthems that transport you.
URL:https://freedombarsoho.com/event/anthems/2024-12-17/
LOCATION:Freedom Bar\, 66 Wardour Street\, London\, W1F 0TA\, United Kingdom
GEO:51.5128274;-0.1335658
X-APPLE-STRUCTURED-LOCATION;VALUE=URI;X-ADDRESS=Freedom Bar 66 Wardour Street London W1F 0TA United Kingdom;X-APPLE-RADIUS=500;X-TITLE=66 Wardour Street:geo:-0.1335658,51.5128274
END:VEVENT
BEGIN:VEVENT
DTSTART;TZID=Europe/London:20241214T210000
DTEND;TZID=Europe/London:20241215T030000
DTSTAMP:20260421T184528
CREATED:20241108T162722Z
LAST-MODIFIED:20250630T123505Z
UID:18696-1734210000-1734231600@freedombarsoho.com
SUMMARY:FABULOUS!
DESCRIPTION:Saturday nights at Freedom are FABULOUS! Dress up\, shimmy down\, dance on the poles\, savour some cocktails and enjoy the best Soho Saturday night in town!  DJs playing til 3am \nOur cocktail Bar opens  from 4pm
URL:https://freedombarsoho.com/event/fabulous/2024-12-14/
LOCATION:Freedom Bar\, 66 Wardour Street\, London\, W1F 0TA\, United Kingdom
GEO:51.5128274;-0.1335658
X-APPLE-STRUCTURED-LOCATION;VALUE=URI;X-ADDRESS=Freedom Bar 66 Wardour Street London W1F 0TA United Kingdom;X-APPLE-RADIUS=500;X-TITLE=66 Wardour Street:geo:-0.1335658,51.5128274
END:VEVENT
BEGIN:VEVENT
DTSTART;TZID=Europe/London:20241212T220000
DTEND;TZID=Europe/London:20241213T030000
DTSTAMP:20260421T184528
CREATED:20241108T164211Z
LAST-MODIFIED:20241108T164211Z
UID:18471-1734040800-1734058800@freedombarsoho.com
SUMMARY:Chic!
DESCRIPTION:Hosted by Carl Mullaney\, this is a night to don the sequins and hit the dance floor to the very best in DISCO\, RnB and club classics\, dance floor fillers!
URL:https://freedombarsoho.com/event/chic/2024-12-12/
LOCATION:Freedom Bar\, 66 Wardour Street\, London\, W1F 0TA\, United Kingdom
GEO:51.5128274;-0.1335658
X-APPLE-STRUCTURED-LOCATION;VALUE=URI;X-ADDRESS=Freedom Bar 66 Wardour Street London W1F 0TA United Kingdom;X-APPLE-RADIUS=500;X-TITLE=66 Wardour Street:geo:-0.1335658,51.5128274
END:VEVENT
BEGIN:VEVENT
DTSTART;TZID=Europe/London:20241211T220000
DTEND;TZID=Europe/London:20241212T030000
DTSTAMP:20260421T184528
CREATED:20241108T163611Z
LAST-MODIFIED:20241108T163611Z
UID:18580-1733954400-1733972400@freedombarsoho.com
SUMMARY:High on Heels
DESCRIPTION:Our weekly celebration of Drag and Divas\, lipstick powder and paint\, lights\, cameras….ACTION!!
URL:https://freedombarsoho.com/event/high-on-heels-2/2024-12-11/
LOCATION:Freedom Bar\, 66 Wardour Street\, London\, W1F 0TA\, United Kingdom
GEO:51.5128274;-0.1335658
X-APPLE-STRUCTURED-LOCATION;VALUE=URI;X-ADDRESS=Freedom Bar 66 Wardour Street London W1F 0TA United Kingdom;X-APPLE-RADIUS=500;X-TITLE=66 Wardour Street:geo:-0.1335658,51.5128274
END:VEVENT
BEGIN:VEVENT
DTSTART;TZID=Europe/London:20241210T220000
DTEND;TZID=Europe/London:20241211T030000
DTSTAMP:20260421T184528
CREATED:20241108T163411Z
LAST-MODIFIED:20241108T163411Z
UID:18487-1733868000-1733886000@freedombarsoho.com
SUMMARY:Anthems
DESCRIPTION:WEst End singers perform the songs that have been the soundtrack ton your lives\, the stand out Anthems that transport you.
URL:https://freedombarsoho.com/event/anthems/2024-12-10/
LOCATION:Freedom Bar\, 66 Wardour Street\, London\, W1F 0TA\, United Kingdom
GEO:51.5128274;-0.1335658
X-APPLE-STRUCTURED-LOCATION;VALUE=URI;X-ADDRESS=Freedom Bar 66 Wardour Street London W1F 0TA United Kingdom;X-APPLE-RADIUS=500;X-TITLE=66 Wardour Street:geo:-0.1335658,51.5128274
END:VEVENT
BEGIN:VEVENT
DTSTART;TZID=Europe/London:20241207T210000
DTEND;TZID=Europe/London:20241208T030000
DTSTAMP:20260421T184528
CREATED:20241108T162722Z
LAST-MODIFIED:20250630T123505Z
UID:18695-1733605200-1733626800@freedombarsoho.com
SUMMARY:FABULOUS!
DESCRIPTION:Saturday nights at Freedom are FABULOUS! Dress up\, shimmy down\, dance on the poles\, savour some cocktails and enjoy the best Soho Saturday night in town!  DJs playing til 3am \nOur cocktail Bar opens  from 4pm
URL:https://freedombarsoho.com/event/fabulous/2024-12-07/
LOCATION:Freedom Bar\, 66 Wardour Street\, London\, W1F 0TA\, United Kingdom
GEO:51.5128274;-0.1335658
X-APPLE-STRUCTURED-LOCATION;VALUE=URI;X-ADDRESS=Freedom Bar 66 Wardour Street London W1F 0TA United Kingdom;X-APPLE-RADIUS=500;X-TITLE=66 Wardour Street:geo:-0.1335658,51.5128274
END:VEVENT
BEGIN:VEVENT
DTSTART;TZID=Europe/London:20241205T220000
DTEND;TZID=Europe/London:20241206T030000
DTSTAMP:20260421T184528
CREATED:20241108T164211Z
LAST-MODIFIED:20241108T164211Z
UID:18470-1733436000-1733454000@freedombarsoho.com
SUMMARY:Chic!
DESCRIPTION:Hosted by Carl Mullaney\, this is a night to don the sequins and hit the dance floor to the very best in DISCO\, RnB and club classics\, dance floor fillers!
URL:https://freedombarsoho.com/event/chic/2024-12-05/
LOCATION:Freedom Bar\, 66 Wardour Street\, London\, W1F 0TA\, United Kingdom
GEO:51.5128274;-0.1335658
X-APPLE-STRUCTURED-LOCATION;VALUE=URI;X-ADDRESS=Freedom Bar 66 Wardour Street London W1F 0TA United Kingdom;X-APPLE-RADIUS=500;X-TITLE=66 Wardour Street:geo:-0.1335658,51.5128274
END:VEVENT
BEGIN:VEVENT
DTSTART;TZID=Europe/London:20241204T220000
DTEND;TZID=Europe/London:20241205T030000
DTSTAMP:20260421T184528
CREATED:20241108T163611Z
LAST-MODIFIED:20241108T163611Z
UID:18579-1733349600-1733367600@freedombarsoho.com
SUMMARY:High on Heels
DESCRIPTION:Our weekly celebration of Drag and Divas\, lipstick powder and paint\, lights\, cameras….ACTION!!
URL:https://freedombarsoho.com/event/high-on-heels-2/2024-12-04/
LOCATION:Freedom Bar\, 66 Wardour Street\, London\, W1F 0TA\, United Kingdom
GEO:51.5128274;-0.1335658
X-APPLE-STRUCTURED-LOCATION;VALUE=URI;X-ADDRESS=Freedom Bar 66 Wardour Street London W1F 0TA United Kingdom;X-APPLE-RADIUS=500;X-TITLE=66 Wardour Street:geo:-0.1335658,51.5128274
END:VEVENT
BEGIN:VEVENT
DTSTART;TZID=Europe/London:20241203T220000
DTEND;TZID=Europe/London:20241204T030000
DTSTAMP:20260421T184528
CREATED:20241108T163411Z
LAST-MODIFIED:20241108T163411Z
UID:18486-1733263200-1733281200@freedombarsoho.com
SUMMARY:Anthems
DESCRIPTION:WEst End singers perform the songs that have been the soundtrack ton your lives\, the stand out Anthems that transport you.
URL:https://freedombarsoho.com/event/anthems/2024-12-03/
LOCATION:Freedom Bar\, 66 Wardour Street\, London\, W1F 0TA\, United Kingdom
GEO:51.5128274;-0.1335658
X-APPLE-STRUCTURED-LOCATION;VALUE=URI;X-ADDRESS=Freedom Bar 66 Wardour Street London W1F 0TA United Kingdom;X-APPLE-RADIUS=500;X-TITLE=66 Wardour Street:geo:-0.1335658,51.5128274
END:VEVENT
BEGIN:VEVENT
DTSTART;TZID=Europe/London:20241130T210000
DTEND;TZID=Europe/London:20241201T030000
DTSTAMP:20260421T184528
CREATED:20241108T162722Z
LAST-MODIFIED:20250630T123505Z
UID:18694-1733000400-1733022000@freedombarsoho.com
SUMMARY:FABULOUS!
DESCRIPTION:Saturday nights at Freedom are FABULOUS! Dress up\, shimmy down\, dance on the poles\, savour some cocktails and enjoy the best Soho Saturday night in town!  DJs playing til 3am \nOur cocktail Bar opens  from 4pm
URL:https://freedombarsoho.com/event/fabulous/2024-11-30/
LOCATION:Freedom Bar\, 66 Wardour Street\, London\, W1F 0TA\, United Kingdom
GEO:51.5128274;-0.1335658
X-APPLE-STRUCTURED-LOCATION;VALUE=URI;X-ADDRESS=Freedom Bar 66 Wardour Street London W1F 0TA United Kingdom;X-APPLE-RADIUS=500;X-TITLE=66 Wardour Street:geo:-0.1335658,51.5128274
END:VEVENT
BEGIN:VEVENT
DTSTART;TZID=Europe/London:20241128T220000
DTEND;TZID=Europe/London:20241129T030000
DTSTAMP:20260421T184528
CREATED:20241108T164211Z
LAST-MODIFIED:20241108T164211Z
UID:18469-1732831200-1732849200@freedombarsoho.com
SUMMARY:Chic!
DESCRIPTION:Hosted by Carl Mullaney\, this is a night to don the sequins and hit the dance floor to the very best in DISCO\, RnB and club classics\, dance floor fillers!
URL:https://freedombarsoho.com/event/chic/2024-11-28/
LOCATION:Freedom Bar\, 66 Wardour Street\, London\, W1F 0TA\, United Kingdom
GEO:51.5128274;-0.1335658
X-APPLE-STRUCTURED-LOCATION;VALUE=URI;X-ADDRESS=Freedom Bar 66 Wardour Street London W1F 0TA United Kingdom;X-APPLE-RADIUS=500;X-TITLE=66 Wardour Street:geo:-0.1335658,51.5128274
END:VEVENT
BEGIN:VEVENT
DTSTART;TZID=Europe/London:20241127T220000
DTEND;TZID=Europe/London:20241128T030000
DTSTAMP:20260421T184528
CREATED:20241108T163611Z
LAST-MODIFIED:20241108T163611Z
UID:18578-1732744800-1732762800@freedombarsoho.com
SUMMARY:High on Heels
DESCRIPTION:Our weekly celebration of Drag and Divas\, lipstick powder and paint\, lights\, cameras….ACTION!!
URL:https://freedombarsoho.com/event/high-on-heels-2/2024-11-27/
LOCATION:Freedom Bar\, 66 Wardour Street\, London\, W1F 0TA\, United Kingdom
GEO:51.5128274;-0.1335658
X-APPLE-STRUCTURED-LOCATION;VALUE=URI;X-ADDRESS=Freedom Bar 66 Wardour Street London W1F 0TA United Kingdom;X-APPLE-RADIUS=500;X-TITLE=66 Wardour Street:geo:-0.1335658,51.5128274
END:VEVENT
BEGIN:VEVENT
DTSTART;TZID=Europe/London:20241126T220000
DTEND;TZID=Europe/London:20241127T030000
DTSTAMP:20260421T184528
CREATED:20241108T163411Z
LAST-MODIFIED:20241108T163411Z
UID:18485-1732658400-1732676400@freedombarsoho.com
SUMMARY:Anthems
DESCRIPTION:WEst End singers perform the songs that have been the soundtrack ton your lives\, the stand out Anthems that transport you.
URL:https://freedombarsoho.com/event/anthems/2024-11-26/
LOCATION:Freedom Bar\, 66 Wardour Street\, London\, W1F 0TA\, United Kingdom
GEO:51.5128274;-0.1335658
X-APPLE-STRUCTURED-LOCATION;VALUE=URI;X-ADDRESS=Freedom Bar 66 Wardour Street London W1F 0TA United Kingdom;X-APPLE-RADIUS=500;X-TITLE=66 Wardour Street:geo:-0.1335658,51.5128274
END:VEVENT
BEGIN:VEVENT
DTSTART;TZID=Europe/London:20241123T210000
DTEND;TZID=Europe/London:20241124T030000
DTSTAMP:20260421T184528
CREATED:20241108T162722Z
LAST-MODIFIED:20250630T123505Z
UID:18693-1732395600-1732417200@freedombarsoho.com
SUMMARY:FABULOUS!
DESCRIPTION:Saturday nights at Freedom are FABULOUS! Dress up\, shimmy down\, dance on the poles\, savour some cocktails and enjoy the best Soho Saturday night in town!  DJs playing til 3am \nOur cocktail Bar opens  from 4pm
URL:https://freedombarsoho.com/event/fabulous/2024-11-23/
LOCATION:Freedom Bar\, 66 Wardour Street\, London\, W1F 0TA\, United Kingdom
GEO:51.5128274;-0.1335658
X-APPLE-STRUCTURED-LOCATION;VALUE=URI;X-ADDRESS=Freedom Bar 66 Wardour Street London W1F 0TA United Kingdom;X-APPLE-RADIUS=500;X-TITLE=66 Wardour Street:geo:-0.1335658,51.5128274
END:VEVENT
BEGIN:VEVENT
DTSTART;TZID=Europe/London:20241121T220000
DTEND;TZID=Europe/London:20241122T030000
DTSTAMP:20260421T184528
CREATED:20241108T164211Z
LAST-MODIFIED:20241108T164211Z
UID:18468-1732226400-1732244400@freedombarsoho.com
SUMMARY:Chic!
DESCRIPTION:Hosted by Carl Mullaney\, this is a night to don the sequins and hit the dance floor to the very best in DISCO\, RnB and club classics\, dance floor fillers!
URL:https://freedombarsoho.com/event/chic/2024-11-21/
LOCATION:Freedom Bar\, 66 Wardour Street\, London\, W1F 0TA\, United Kingdom
GEO:51.5128274;-0.1335658
X-APPLE-STRUCTURED-LOCATION;VALUE=URI;X-ADDRESS=Freedom Bar 66 Wardour Street London W1F 0TA United Kingdom;X-APPLE-RADIUS=500;X-TITLE=66 Wardour Street:geo:-0.1335658,51.5128274
END:VEVENT
BEGIN:VEVENT
DTSTART;TZID=Europe/London:20241120T220000
DTEND;TZID=Europe/London:20241121T030000
DTSTAMP:20260421T184528
CREATED:20241108T163611Z
LAST-MODIFIED:20241108T163611Z
UID:18577-1732140000-1732158000@freedombarsoho.com
SUMMARY:High on Heels
DESCRIPTION:Our weekly celebration of Drag and Divas\, lipstick powder and paint\, lights\, cameras….ACTION!!
URL:https://freedombarsoho.com/event/high-on-heels-2/2024-11-20/
LOCATION:Freedom Bar\, 66 Wardour Street\, London\, W1F 0TA\, United Kingdom
GEO:51.5128274;-0.1335658
X-APPLE-STRUCTURED-LOCATION;VALUE=URI;X-ADDRESS=Freedom Bar 66 Wardour Street London W1F 0TA United Kingdom;X-APPLE-RADIUS=500;X-TITLE=66 Wardour Street:geo:-0.1335658,51.5128274
END:VEVENT
BEGIN:VEVENT
DTSTART;TZID=Europe/London:20241119T220000
DTEND;TZID=Europe/London:20241120T030000
DTSTAMP:20260421T184528
CREATED:20241108T163411Z
LAST-MODIFIED:20241108T163411Z
UID:18484-1732053600-1732071600@freedombarsoho.com
SUMMARY:Anthems
DESCRIPTION:WEst End singers perform the songs that have been the soundtrack ton your lives\, the stand out Anthems that transport you.
URL:https://freedombarsoho.com/event/anthems/2024-11-19/
LOCATION:Freedom Bar\, 66 Wardour Street\, London\, W1F 0TA\, United Kingdom
GEO:51.5128274;-0.1335658
X-APPLE-STRUCTURED-LOCATION;VALUE=URI;X-ADDRESS=Freedom Bar 66 Wardour Street London W1F 0TA United Kingdom;X-APPLE-RADIUS=500;X-TITLE=66 Wardour Street:geo:-0.1335658,51.5128274
END:VEVENT
BEGIN:VEVENT
DTSTART;TZID=Europe/London:20241116T210000
DTEND;TZID=Europe/London:20241117T030000
DTSTAMP:20260421T184528
CREATED:20241108T162722Z
LAST-MODIFIED:20250630T123505Z
UID:18692-1731790800-1731812400@freedombarsoho.com
SUMMARY:FABULOUS!
DESCRIPTION:Saturday nights at Freedom are FABULOUS! Dress up\, shimmy down\, dance on the poles\, savour some cocktails and enjoy the best Soho Saturday night in town!  DJs playing til 3am \nOur cocktail Bar opens  from 4pm
URL:https://freedombarsoho.com/event/fabulous/2024-11-16/
LOCATION:Freedom Bar\, 66 Wardour Street\, London\, W1F 0TA\, United Kingdom
GEO:51.5128274;-0.1335658
X-APPLE-STRUCTURED-LOCATION;VALUE=URI;X-ADDRESS=Freedom Bar 66 Wardour Street London W1F 0TA United Kingdom;X-APPLE-RADIUS=500;X-TITLE=66 Wardour Street:geo:-0.1335658,51.5128274
END:VEVENT
BEGIN:VEVENT
DTSTART;TZID=Europe/London:20241114T220000
DTEND;TZID=Europe/London:20241115T030000
DTSTAMP:20260421T184528
CREATED:20241108T164211Z
LAST-MODIFIED:20250630T122841Z
UID:18063-1731621600-1731639600@freedombarsoho.com
SUMMARY:Chic!
DESCRIPTION:Hosted by Carl Mullaney\, this is a night to don the sequins and hit the dance floor to the very best in DISCO\, RnB and club classics\, dance floor fillers!
URL:https://freedombarsoho.com/event/chic/2024-11-14/
LOCATION:Freedom Bar\, 66 Wardour Street\, London\, W1F 0TA\, United Kingdom
GEO:51.5128274;-0.1335658
X-APPLE-STRUCTURED-LOCATION;VALUE=URI;X-ADDRESS=Freedom Bar 66 Wardour Street London W1F 0TA United Kingdom;X-APPLE-RADIUS=500;X-TITLE=66 Wardour Street:geo:-0.1335658,51.5128274
END:VEVENT
BEGIN:VEVENT
DTSTART;TZID=Europe/London:20241113T220000
DTEND;TZID=Europe/London:20241114T030000
DTSTAMP:20260421T184528
CREATED:20241108T163611Z
LAST-MODIFIED:20250630T123215Z
UID:17953-1731535200-1731553200@freedombarsoho.com
SUMMARY:High on Heels
DESCRIPTION:Our weekly celebration of Drag and Divas\, lipstick powder and paint\, lights\, cameras….ACTION!!
URL:https://freedombarsoho.com/event/high-on-heels-2/2024-11-13/
LOCATION:Freedom Bar\, 66 Wardour Street\, London\, W1F 0TA\, United Kingdom
GEO:51.5128274;-0.1335658
X-APPLE-STRUCTURED-LOCATION;VALUE=URI;X-ADDRESS=Freedom Bar 66 Wardour Street London W1F 0TA United Kingdom;X-APPLE-RADIUS=500;X-TITLE=66 Wardour Street:geo:-0.1335658,51.5128274
END:VEVENT
BEGIN:VEVENT
DTSTART;TZID=Europe/London:20241112T220000
DTEND;TZID=Europe/London:20241113T030000
DTSTAMP:20260421T184528
CREATED:20241108T163411Z
LAST-MODIFIED:20250630T122923Z
UID:17887-1731448800-1731466800@freedombarsoho.com
SUMMARY:Anthems
DESCRIPTION:WEst End singers perform the songs that have been the soundtrack ton your lives\, the stand out Anthems that transport you.
URL:https://freedombarsoho.com/event/anthems/2024-11-12/
LOCATION:Freedom Bar\, 66 Wardour Street\, London\, W1F 0TA\, United Kingdom
GEO:51.5128274;-0.1335658
X-APPLE-STRUCTURED-LOCATION;VALUE=URI;X-ADDRESS=Freedom Bar 66 Wardour Street London W1F 0TA United Kingdom;X-APPLE-RADIUS=500;X-TITLE=66 Wardour Street:geo:-0.1335658,51.5128274
END:VEVENT
BEGIN:VEVENT
DTSTART;TZID=Europe/London:20241109T210000
DTEND;TZID=Europe/London:20241110T030000
DTSTAMP:20260421T184528
CREATED:20241108T162722Z
LAST-MODIFIED:20250630T123504Z
UID:17754-1731186000-1731207600@freedombarsoho.com
SUMMARY:FABULOUS!
DESCRIPTION:Saturday nights at Freedom are FABULOUS! Dress up\, shimmy down\, dance on the poles\, savour some cocktails and enjoy the best Soho Saturday night in town!  DJs playing til 3am \nOur cocktail Bar opens  from 4pm
URL:https://freedombarsoho.com/event/fabulous/2024-11-09/
LOCATION:Freedom Bar\, 66 Wardour Street\, London\, W1F 0TA\, United Kingdom
GEO:51.5128274;-0.1335658
X-APPLE-STRUCTURED-LOCATION;VALUE=URI;X-ADDRESS=Freedom Bar 66 Wardour Street London W1F 0TA United Kingdom;X-APPLE-RADIUS=500;X-TITLE=66 Wardour Street:geo:-0.1335658,51.5128274
END:VEVENT
BEGIN:VEVENT
DTSTART;TZID=Europe/London:20241108T210000
DTEND;TZID=Europe/London:20241109T030000
DTSTAMP:20260421T184528
CREATED:20241108T164033Z
LAST-MODIFIED:20250630T123102Z
UID:18009-1731099600-1731121200@freedombarsoho.com
SUMMARY:Freedom House Party
DESCRIPTION:You’ve made it to the weekend so time to have some fun at Freedom’s House Party! The best DJs will keep you dancing all night long… \nOur Cocktail Bar is open from 4pm
URL:https://freedombarsoho.com/event/freedom-house-party/2024-11-08/
LOCATION:Freedom Bar\, 66 Wardour Street\, London\, W1F 0TA\, United Kingdom
GEO:51.5128274;-0.1335658
X-APPLE-STRUCTURED-LOCATION;VALUE=URI;X-ADDRESS=Freedom Bar 66 Wardour Street London W1F 0TA United Kingdom;X-APPLE-RADIUS=500;X-TITLE=66 Wardour Street:geo:-0.1335658,51.5128274
END:VEVENT
BEGIN:VEVENT
DTSTART;TZID=Europe/London:20240526T160000
DTEND;TZID=Europe/London:20240527T160000
DTSTAMP:20260421T184528
CREATED:20240523T110941Z
LAST-MODIFIED:20240523T110941Z
UID:17552-1716739200-1716825600@freedombarsoho.com
SUMMARY:Bank Holiday Weekend
DESCRIPTION:We will be open late tonight!  Come join the PARTY #noworkMonday
URL:https://freedombarsoho.com/event/bank-holiday-weekend/
LOCATION:Freedom Bar\, 66 Wardour Street\, London\, W1F 0TA\, United Kingdom
GEO:51.5128274;-0.1335658
X-APPLE-STRUCTURED-LOCATION;VALUE=URI;X-ADDRESS=Freedom Bar 66 Wardour Street London W1F 0TA United Kingdom;X-APPLE-RADIUS=500;X-TITLE=66 Wardour Street:geo:-0.1335658,51.5128274
END:VEVENT
END:VCALENDAR