BEGIN:VCALENDAR
VERSION:2.0
PRODID:-//Freedom Bar - ECPv6.15.20//NONSGML v1.0//EN
CALSCALE:GREGORIAN
METHOD:PUBLISH
X-WR-CALNAME:Freedom Bar
X-ORIGINAL-URL:https://freedombarsoho.com
X-WR-CALDESC:Events for Freedom Bar
REFRESH-INTERVAL;VALUE=DURATION:PT1H
X-Robots-Tag:noindex
X-PUBLISHED-TTL:PT1H
BEGIN:VTIMEZONE
TZID:Europe/London
BEGIN:DAYLIGHT
TZOFFSETFROM:+0000
TZOFFSETTO:+0100
TZNAME:BST
DTSTART:20250330T010000
END:DAYLIGHT
BEGIN:STANDARD
TZOFFSETFROM:+0100
TZOFFSETTO:+0000
TZNAME:GMT
DTSTART:20251026T010000
END:STANDARD
BEGIN:DAYLIGHT
TZOFFSETFROM:+0000
TZOFFSETTO:+0100
TZNAME:BST
DTSTART:20260329T010000
END:DAYLIGHT
BEGIN:STANDARD
TZOFFSETFROM:+0100
TZOFFSETTO:+0000
TZNAME:GMT
DTSTART:20261025T010000
END:STANDARD
BEGIN:DAYLIGHT
TZOFFSETFROM:+0000
TZOFFSETTO:+0100
TZNAME:BST
DTSTART:20270328T010000
END:DAYLIGHT
BEGIN:STANDARD
TZOFFSETFROM:+0100
TZOFFSETTO:+0000
TZNAME:GMT
DTSTART:20271031T010000
END:STANDARD
END:VTIMEZONE
BEGIN:VEVENT
DTSTART;TZID=Europe/London:20260518T220000
DTEND;TZID=Europe/London:20260519T030000
DTSTAMP:20260420T092119
CREATED:20241108T163119Z
LAST-MODIFIED:20250630T124849Z
UID:18910-1779141600-1779159600@freedombarsoho.com
SUMMARY:Kinky Kabaret
DESCRIPTION:The West End’s finest singers\, dancers\, and drag perform for their peers at this iconic Monday night show. \nOur cocktail Bar opens at 4pm with Happy Hours til 8pm.
URL:https://freedombarsoho.com/event/kinky-kabaret-2/2026-05-18/
LOCATION:Freedom Bar\, 66 Wardour Street\, London\, W1F 0TA\, United Kingdom
GEO:51.5128274;-0.1335658
X-APPLE-STRUCTURED-LOCATION;VALUE=URI;X-ADDRESS=Freedom Bar 66 Wardour Street London W1F 0TA United Kingdom;X-APPLE-RADIUS=500;X-TITLE=66 Wardour Street:geo:-0.1335658,51.5128274
END:VEVENT
BEGIN:VEVENT
DTSTART;TZID=Europe/London:20260521T220000
DTEND;TZID=Europe/London:20260522T030000
DTSTAMP:20260420T092119
CREATED:20221024T122849Z
LAST-MODIFIED:20221024T122849Z
UID:19149-1779400800-1779418800@freedombarsoho.com
SUMMARY:"Chic"
DESCRIPTION:Every Thursday evening\, we are CHIC!  Pull on your sequins and your best disco outfit and dance to floor filling Disco House and club R & B!  Open til 3am \nOur Cocktail Bar opens at 4pm with Happy Hours til 8pm
URL:https://freedombarsoho.com/event/chic-2024-11-14/2026-05-21/
LOCATION:Freedom Bar\, 66 Wardour Street\, London\, W1F 0TA\, United Kingdom
GEO:51.5128274;-0.1335658
X-APPLE-STRUCTURED-LOCATION;VALUE=URI;X-ADDRESS=Freedom Bar 66 Wardour Street London W1F 0TA United Kingdom;X-APPLE-RADIUS=500;X-TITLE=66 Wardour Street:geo:-0.1335658,51.5128274
END:VEVENT
BEGIN:VEVENT
DTSTART;TZID=Europe/London:20260525T220000
DTEND;TZID=Europe/London:20260526T030000
DTSTAMP:20260420T092119
CREATED:20241108T163119Z
LAST-MODIFIED:20250630T124849Z
UID:18911-1779746400-1779764400@freedombarsoho.com
SUMMARY:Kinky Kabaret
DESCRIPTION:The West End’s finest singers\, dancers\, and drag perform for their peers at this iconic Monday night show. \nOur cocktail Bar opens at 4pm with Happy Hours til 8pm.
URL:https://freedombarsoho.com/event/kinky-kabaret-2/2026-05-25/
LOCATION:Freedom Bar\, 66 Wardour Street\, London\, W1F 0TA\, United Kingdom
GEO:51.5128274;-0.1335658
X-APPLE-STRUCTURED-LOCATION;VALUE=URI;X-ADDRESS=Freedom Bar 66 Wardour Street London W1F 0TA United Kingdom;X-APPLE-RADIUS=500;X-TITLE=66 Wardour Street:geo:-0.1335658,51.5128274
END:VEVENT
BEGIN:VEVENT
DTSTART;TZID=Europe/London:20260528T220000
DTEND;TZID=Europe/London:20260529T030000
DTSTAMP:20260420T092119
CREATED:20221024T122849Z
LAST-MODIFIED:20221024T122849Z
UID:19150-1780005600-1780023600@freedombarsoho.com
SUMMARY:"Chic"
DESCRIPTION:Every Thursday evening\, we are CHIC!  Pull on your sequins and your best disco outfit and dance to floor filling Disco House and club R & B!  Open til 3am \nOur Cocktail Bar opens at 4pm with Happy Hours til 8pm
URL:https://freedombarsoho.com/event/chic-2024-11-14/2026-05-28/
LOCATION:Freedom Bar\, 66 Wardour Street\, London\, W1F 0TA\, United Kingdom
GEO:51.5128274;-0.1335658
X-APPLE-STRUCTURED-LOCATION;VALUE=URI;X-ADDRESS=Freedom Bar 66 Wardour Street London W1F 0TA United Kingdom;X-APPLE-RADIUS=500;X-TITLE=66 Wardour Street:geo:-0.1335658,51.5128274
END:VEVENT
BEGIN:VEVENT
DTSTART;TZID=Europe/London:20260601T220000
DTEND;TZID=Europe/London:20260602T030000
DTSTAMP:20260420T092119
CREATED:20241108T163119Z
LAST-MODIFIED:20250630T124849Z
UID:18912-1780351200-1780369200@freedombarsoho.com
SUMMARY:Kinky Kabaret
DESCRIPTION:The West End’s finest singers\, dancers\, and drag perform for their peers at this iconic Monday night show. \nOur cocktail Bar opens at 4pm with Happy Hours til 8pm.
URL:https://freedombarsoho.com/event/kinky-kabaret-2/2026-06-01/
LOCATION:Freedom Bar\, 66 Wardour Street\, London\, W1F 0TA\, United Kingdom
GEO:51.5128274;-0.1335658
X-APPLE-STRUCTURED-LOCATION;VALUE=URI;X-ADDRESS=Freedom Bar 66 Wardour Street London W1F 0TA United Kingdom;X-APPLE-RADIUS=500;X-TITLE=66 Wardour Street:geo:-0.1335658,51.5128274
END:VEVENT
BEGIN:VEVENT
DTSTART;TZID=Europe/London:20260604T220000
DTEND;TZID=Europe/London:20260605T030000
DTSTAMP:20260420T092119
CREATED:20221024T122849Z
LAST-MODIFIED:20221024T122849Z
UID:19151-1780610400-1780628400@freedombarsoho.com
SUMMARY:"Chic"
DESCRIPTION:Every Thursday evening\, we are CHIC!  Pull on your sequins and your best disco outfit and dance to floor filling Disco House and club R & B!  Open til 3am \nOur Cocktail Bar opens at 4pm with Happy Hours til 8pm
URL:https://freedombarsoho.com/event/chic-2024-11-14/2026-06-04/
LOCATION:Freedom Bar\, 66 Wardour Street\, London\, W1F 0TA\, United Kingdom
GEO:51.5128274;-0.1335658
X-APPLE-STRUCTURED-LOCATION;VALUE=URI;X-ADDRESS=Freedom Bar 66 Wardour Street London W1F 0TA United Kingdom;X-APPLE-RADIUS=500;X-TITLE=66 Wardour Street:geo:-0.1335658,51.5128274
END:VEVENT
BEGIN:VEVENT
DTSTART;TZID=Europe/London:20260608T220000
DTEND;TZID=Europe/London:20260609T030000
DTSTAMP:20260420T092119
CREATED:20241108T163119Z
LAST-MODIFIED:20250630T124849Z
UID:18913-1780956000-1780974000@freedombarsoho.com
SUMMARY:Kinky Kabaret
DESCRIPTION:The West End’s finest singers\, dancers\, and drag perform for their peers at this iconic Monday night show. \nOur cocktail Bar opens at 4pm with Happy Hours til 8pm.
URL:https://freedombarsoho.com/event/kinky-kabaret-2/2026-06-08/
LOCATION:Freedom Bar\, 66 Wardour Street\, London\, W1F 0TA\, United Kingdom
GEO:51.5128274;-0.1335658
X-APPLE-STRUCTURED-LOCATION;VALUE=URI;X-ADDRESS=Freedom Bar 66 Wardour Street London W1F 0TA United Kingdom;X-APPLE-RADIUS=500;X-TITLE=66 Wardour Street:geo:-0.1335658,51.5128274
END:VEVENT
BEGIN:VEVENT
DTSTART;TZID=Europe/London:20260611T220000
DTEND;TZID=Europe/London:20260612T030000
DTSTAMP:20260420T092119
CREATED:20221024T122849Z
LAST-MODIFIED:20221024T122849Z
UID:19152-1781215200-1781233200@freedombarsoho.com
SUMMARY:"Chic"
DESCRIPTION:Every Thursday evening\, we are CHIC!  Pull on your sequins and your best disco outfit and dance to floor filling Disco House and club R & B!  Open til 3am \nOur Cocktail Bar opens at 4pm with Happy Hours til 8pm
URL:https://freedombarsoho.com/event/chic-2024-11-14/2026-06-11/
LOCATION:Freedom Bar\, 66 Wardour Street\, London\, W1F 0TA\, United Kingdom
GEO:51.5128274;-0.1335658
X-APPLE-STRUCTURED-LOCATION;VALUE=URI;X-ADDRESS=Freedom Bar 66 Wardour Street London W1F 0TA United Kingdom;X-APPLE-RADIUS=500;X-TITLE=66 Wardour Street:geo:-0.1335658,51.5128274
END:VEVENT
BEGIN:VEVENT
DTSTART;TZID=Europe/London:20260615T220000
DTEND;TZID=Europe/London:20260616T030000
DTSTAMP:20260420T092119
CREATED:20241108T163119Z
LAST-MODIFIED:20250630T124849Z
UID:18914-1781560800-1781578800@freedombarsoho.com
SUMMARY:Kinky Kabaret
DESCRIPTION:The West End’s finest singers\, dancers\, and drag perform for their peers at this iconic Monday night show. \nOur cocktail Bar opens at 4pm with Happy Hours til 8pm.
URL:https://freedombarsoho.com/event/kinky-kabaret-2/2026-06-15/
LOCATION:Freedom Bar\, 66 Wardour Street\, London\, W1F 0TA\, United Kingdom
GEO:51.5128274;-0.1335658
X-APPLE-STRUCTURED-LOCATION;VALUE=URI;X-ADDRESS=Freedom Bar 66 Wardour Street London W1F 0TA United Kingdom;X-APPLE-RADIUS=500;X-TITLE=66 Wardour Street:geo:-0.1335658,51.5128274
END:VEVENT
BEGIN:VEVENT
DTSTART;TZID=Europe/London:20260618T220000
DTEND;TZID=Europe/London:20260619T030000
DTSTAMP:20260420T092119
CREATED:20221024T122849Z
LAST-MODIFIED:20221024T122849Z
UID:19153-1781820000-1781838000@freedombarsoho.com
SUMMARY:"Chic"
DESCRIPTION:Every Thursday evening\, we are CHIC!  Pull on your sequins and your best disco outfit and dance to floor filling Disco House and club R & B!  Open til 3am \nOur Cocktail Bar opens at 4pm with Happy Hours til 8pm
URL:https://freedombarsoho.com/event/chic-2024-11-14/2026-06-18/
LOCATION:Freedom Bar\, 66 Wardour Street\, London\, W1F 0TA\, United Kingdom
GEO:51.5128274;-0.1335658
X-APPLE-STRUCTURED-LOCATION;VALUE=URI;X-ADDRESS=Freedom Bar 66 Wardour Street London W1F 0TA United Kingdom;X-APPLE-RADIUS=500;X-TITLE=66 Wardour Street:geo:-0.1335658,51.5128274
END:VEVENT
BEGIN:VEVENT
DTSTART;TZID=Europe/London:20260622T220000
DTEND;TZID=Europe/London:20260623T030000
DTSTAMP:20260420T092119
CREATED:20241108T163119Z
LAST-MODIFIED:20250630T124850Z
UID:18915-1782165600-1782183600@freedombarsoho.com
SUMMARY:Kinky Kabaret
DESCRIPTION:The West End’s finest singers\, dancers\, and drag perform for their peers at this iconic Monday night show. \nOur cocktail Bar opens at 4pm with Happy Hours til 8pm.
URL:https://freedombarsoho.com/event/kinky-kabaret-2/2026-06-22/
LOCATION:Freedom Bar\, 66 Wardour Street\, London\, W1F 0TA\, United Kingdom
GEO:51.5128274;-0.1335658
X-APPLE-STRUCTURED-LOCATION;VALUE=URI;X-ADDRESS=Freedom Bar 66 Wardour Street London W1F 0TA United Kingdom;X-APPLE-RADIUS=500;X-TITLE=66 Wardour Street:geo:-0.1335658,51.5128274
END:VEVENT
BEGIN:VEVENT
DTSTART;TZID=Europe/London:20260625T220000
DTEND;TZID=Europe/London:20260626T030000
DTSTAMP:20260420T092119
CREATED:20221024T122849Z
LAST-MODIFIED:20221024T122849Z
UID:19154-1782424800-1782442800@freedombarsoho.com
SUMMARY:"Chic"
DESCRIPTION:Every Thursday evening\, we are CHIC!  Pull on your sequins and your best disco outfit and dance to floor filling Disco House and club R & B!  Open til 3am \nOur Cocktail Bar opens at 4pm with Happy Hours til 8pm
URL:https://freedombarsoho.com/event/chic-2024-11-14/2026-06-25/
LOCATION:Freedom Bar\, 66 Wardour Street\, London\, W1F 0TA\, United Kingdom
GEO:51.5128274;-0.1335658
X-APPLE-STRUCTURED-LOCATION;VALUE=URI;X-ADDRESS=Freedom Bar 66 Wardour Street London W1F 0TA United Kingdom;X-APPLE-RADIUS=500;X-TITLE=66 Wardour Street:geo:-0.1335658,51.5128274
END:VEVENT
BEGIN:VEVENT
DTSTART;TZID=Europe/London:20260629T220000
DTEND;TZID=Europe/London:20260630T030000
DTSTAMP:20260420T092119
CREATED:20241108T163119Z
LAST-MODIFIED:20250630T124850Z
UID:18916-1782770400-1782788400@freedombarsoho.com
SUMMARY:Kinky Kabaret
DESCRIPTION:The West End’s finest singers\, dancers\, and drag perform for their peers at this iconic Monday night show. \nOur cocktail Bar opens at 4pm with Happy Hours til 8pm.
URL:https://freedombarsoho.com/event/kinky-kabaret-2/2026-06-29/
LOCATION:Freedom Bar\, 66 Wardour Street\, London\, W1F 0TA\, United Kingdom
GEO:51.5128274;-0.1335658
X-APPLE-STRUCTURED-LOCATION;VALUE=URI;X-ADDRESS=Freedom Bar 66 Wardour Street London W1F 0TA United Kingdom;X-APPLE-RADIUS=500;X-TITLE=66 Wardour Street:geo:-0.1335658,51.5128274
END:VEVENT
BEGIN:VEVENT
DTSTART;TZID=Europe/London:20260702T220000
DTEND;TZID=Europe/London:20260703T030000
DTSTAMP:20260420T092119
CREATED:20221024T122849Z
LAST-MODIFIED:20221024T122849Z
UID:19155-1783029600-1783047600@freedombarsoho.com
SUMMARY:"Chic"
DESCRIPTION:Every Thursday evening\, we are CHIC!  Pull on your sequins and your best disco outfit and dance to floor filling Disco House and club R & B!  Open til 3am \nOur Cocktail Bar opens at 4pm with Happy Hours til 8pm
URL:https://freedombarsoho.com/event/chic-2024-11-14/2026-07-02/
LOCATION:Freedom Bar\, 66 Wardour Street\, London\, W1F 0TA\, United Kingdom
GEO:51.5128274;-0.1335658
X-APPLE-STRUCTURED-LOCATION;VALUE=URI;X-ADDRESS=Freedom Bar 66 Wardour Street London W1F 0TA United Kingdom;X-APPLE-RADIUS=500;X-TITLE=66 Wardour Street:geo:-0.1335658,51.5128274
END:VEVENT
BEGIN:VEVENT
DTSTART;TZID=Europe/London:20260706T220000
DTEND;TZID=Europe/London:20260707T030000
DTSTAMP:20260420T092119
CREATED:20241108T163119Z
LAST-MODIFIED:20250630T124850Z
UID:18917-1783375200-1783393200@freedombarsoho.com
SUMMARY:Kinky Kabaret
DESCRIPTION:The West End’s finest singers\, dancers\, and drag perform for their peers at this iconic Monday night show. \nOur cocktail Bar opens at 4pm with Happy Hours til 8pm.
URL:https://freedombarsoho.com/event/kinky-kabaret-2/2026-07-06/
LOCATION:Freedom Bar\, 66 Wardour Street\, London\, W1F 0TA\, United Kingdom
GEO:51.5128274;-0.1335658
X-APPLE-STRUCTURED-LOCATION;VALUE=URI;X-ADDRESS=Freedom Bar 66 Wardour Street London W1F 0TA United Kingdom;X-APPLE-RADIUS=500;X-TITLE=66 Wardour Street:geo:-0.1335658,51.5128274
END:VEVENT
BEGIN:VEVENT
DTSTART;TZID=Europe/London:20260709T220000
DTEND;TZID=Europe/London:20260710T030000
DTSTAMP:20260420T092119
CREATED:20221024T122849Z
LAST-MODIFIED:20221024T122849Z
UID:19156-1783634400-1783652400@freedombarsoho.com
SUMMARY:"Chic"
DESCRIPTION:Every Thursday evening\, we are CHIC!  Pull on your sequins and your best disco outfit and dance to floor filling Disco House and club R & B!  Open til 3am \nOur Cocktail Bar opens at 4pm with Happy Hours til 8pm
URL:https://freedombarsoho.com/event/chic-2024-11-14/2026-07-09/
LOCATION:Freedom Bar\, 66 Wardour Street\, London\, W1F 0TA\, United Kingdom
GEO:51.5128274;-0.1335658
X-APPLE-STRUCTURED-LOCATION;VALUE=URI;X-ADDRESS=Freedom Bar 66 Wardour Street London W1F 0TA United Kingdom;X-APPLE-RADIUS=500;X-TITLE=66 Wardour Street:geo:-0.1335658,51.5128274
END:VEVENT
BEGIN:VEVENT
DTSTART;TZID=Europe/London:20260713T220000
DTEND;TZID=Europe/London:20260714T030000
DTSTAMP:20260420T092119
CREATED:20241108T163119Z
LAST-MODIFIED:20250630T124850Z
UID:18918-1783980000-1783998000@freedombarsoho.com
SUMMARY:Kinky Kabaret
DESCRIPTION:The West End’s finest singers\, dancers\, and drag perform for their peers at this iconic Monday night show. \nOur cocktail Bar opens at 4pm with Happy Hours til 8pm.
URL:https://freedombarsoho.com/event/kinky-kabaret-2/2026-07-13/
LOCATION:Freedom Bar\, 66 Wardour Street\, London\, W1F 0TA\, United Kingdom
GEO:51.5128274;-0.1335658
X-APPLE-STRUCTURED-LOCATION;VALUE=URI;X-ADDRESS=Freedom Bar 66 Wardour Street London W1F 0TA United Kingdom;X-APPLE-RADIUS=500;X-TITLE=66 Wardour Street:geo:-0.1335658,51.5128274
END:VEVENT
BEGIN:VEVENT
DTSTART;TZID=Europe/London:20260716T220000
DTEND;TZID=Europe/London:20260717T030000
DTSTAMP:20260420T092119
CREATED:20221024T122849Z
LAST-MODIFIED:20221024T122849Z
UID:19157-1784239200-1784257200@freedombarsoho.com
SUMMARY:"Chic"
DESCRIPTION:Every Thursday evening\, we are CHIC!  Pull on your sequins and your best disco outfit and dance to floor filling Disco House and club R & B!  Open til 3am \nOur Cocktail Bar opens at 4pm with Happy Hours til 8pm
URL:https://freedombarsoho.com/event/chic-2024-11-14/2026-07-16/
LOCATION:Freedom Bar\, 66 Wardour Street\, London\, W1F 0TA\, United Kingdom
GEO:51.5128274;-0.1335658
X-APPLE-STRUCTURED-LOCATION;VALUE=URI;X-ADDRESS=Freedom Bar 66 Wardour Street London W1F 0TA United Kingdom;X-APPLE-RADIUS=500;X-TITLE=66 Wardour Street:geo:-0.1335658,51.5128274
END:VEVENT
BEGIN:VEVENT
DTSTART;TZID=Europe/London:20260720T220000
DTEND;TZID=Europe/London:20260721T030000
DTSTAMP:20260420T092119
CREATED:20241108T163119Z
LAST-MODIFIED:20250630T124850Z
UID:18919-1784584800-1784602800@freedombarsoho.com
SUMMARY:Kinky Kabaret
DESCRIPTION:The West End’s finest singers\, dancers\, and drag perform for their peers at this iconic Monday night show. \nOur cocktail Bar opens at 4pm with Happy Hours til 8pm.
URL:https://freedombarsoho.com/event/kinky-kabaret-2/2026-07-20/
LOCATION:Freedom Bar\, 66 Wardour Street\, London\, W1F 0TA\, United Kingdom
GEO:51.5128274;-0.1335658
X-APPLE-STRUCTURED-LOCATION;VALUE=URI;X-ADDRESS=Freedom Bar 66 Wardour Street London W1F 0TA United Kingdom;X-APPLE-RADIUS=500;X-TITLE=66 Wardour Street:geo:-0.1335658,51.5128274
END:VEVENT
BEGIN:VEVENT
DTSTART;TZID=Europe/London:20260723T220000
DTEND;TZID=Europe/London:20260724T030000
DTSTAMP:20260420T092119
CREATED:20221024T122849Z
LAST-MODIFIED:20221024T122849Z
UID:19158-1784844000-1784862000@freedombarsoho.com
SUMMARY:"Chic"
DESCRIPTION:Every Thursday evening\, we are CHIC!  Pull on your sequins and your best disco outfit and dance to floor filling Disco House and club R & B!  Open til 3am \nOur Cocktail Bar opens at 4pm with Happy Hours til 8pm
URL:https://freedombarsoho.com/event/chic-2024-11-14/2026-07-23/
LOCATION:Freedom Bar\, 66 Wardour Street\, London\, W1F 0TA\, United Kingdom
GEO:51.5128274;-0.1335658
X-APPLE-STRUCTURED-LOCATION;VALUE=URI;X-ADDRESS=Freedom Bar 66 Wardour Street London W1F 0TA United Kingdom;X-APPLE-RADIUS=500;X-TITLE=66 Wardour Street:geo:-0.1335658,51.5128274
END:VEVENT
BEGIN:VEVENT
DTSTART;TZID=Europe/London:20260727T220000
DTEND;TZID=Europe/London:20260728T030000
DTSTAMP:20260420T092119
CREATED:20241108T163119Z
LAST-MODIFIED:20250630T124850Z
UID:18920-1785189600-1785207600@freedombarsoho.com
SUMMARY:Kinky Kabaret
DESCRIPTION:The West End’s finest singers\, dancers\, and drag perform for their peers at this iconic Monday night show. \nOur cocktail Bar opens at 4pm with Happy Hours til 8pm.
URL:https://freedombarsoho.com/event/kinky-kabaret-2/2026-07-27/
LOCATION:Freedom Bar\, 66 Wardour Street\, London\, W1F 0TA\, United Kingdom
GEO:51.5128274;-0.1335658
X-APPLE-STRUCTURED-LOCATION;VALUE=URI;X-ADDRESS=Freedom Bar 66 Wardour Street London W1F 0TA United Kingdom;X-APPLE-RADIUS=500;X-TITLE=66 Wardour Street:geo:-0.1335658,51.5128274
END:VEVENT
BEGIN:VEVENT
DTSTART;TZID=Europe/London:20260730T220000
DTEND;TZID=Europe/London:20260731T030000
DTSTAMP:20260420T092119
CREATED:20221024T122849Z
LAST-MODIFIED:20221024T122849Z
UID:19159-1785448800-1785466800@freedombarsoho.com
SUMMARY:"Chic"
DESCRIPTION:Every Thursday evening\, we are CHIC!  Pull on your sequins and your best disco outfit and dance to floor filling Disco House and club R & B!  Open til 3am \nOur Cocktail Bar opens at 4pm with Happy Hours til 8pm
URL:https://freedombarsoho.com/event/chic-2024-11-14/2026-07-30/
LOCATION:Freedom Bar\, 66 Wardour Street\, London\, W1F 0TA\, United Kingdom
GEO:51.5128274;-0.1335658
X-APPLE-STRUCTURED-LOCATION;VALUE=URI;X-ADDRESS=Freedom Bar 66 Wardour Street London W1F 0TA United Kingdom;X-APPLE-RADIUS=500;X-TITLE=66 Wardour Street:geo:-0.1335658,51.5128274
END:VEVENT
BEGIN:VEVENT
DTSTART;TZID=Europe/London:20260803T220000
DTEND;TZID=Europe/London:20260804T030000
DTSTAMP:20260420T092119
CREATED:20241108T163119Z
LAST-MODIFIED:20250630T124850Z
UID:18921-1785794400-1785812400@freedombarsoho.com
SUMMARY:Kinky Kabaret
DESCRIPTION:The West End’s finest singers\, dancers\, and drag perform for their peers at this iconic Monday night show. \nOur cocktail Bar opens at 4pm with Happy Hours til 8pm.
URL:https://freedombarsoho.com/event/kinky-kabaret-2/2026-08-03/
LOCATION:Freedom Bar\, 66 Wardour Street\, London\, W1F 0TA\, United Kingdom
GEO:51.5128274;-0.1335658
X-APPLE-STRUCTURED-LOCATION;VALUE=URI;X-ADDRESS=Freedom Bar 66 Wardour Street London W1F 0TA United Kingdom;X-APPLE-RADIUS=500;X-TITLE=66 Wardour Street:geo:-0.1335658,51.5128274
END:VEVENT
BEGIN:VEVENT
DTSTART;TZID=Europe/London:20260806T220000
DTEND;TZID=Europe/London:20260807T030000
DTSTAMP:20260420T092119
CREATED:20221024T122849Z
LAST-MODIFIED:20221024T122849Z
UID:19160-1786053600-1786071600@freedombarsoho.com
SUMMARY:"Chic"
DESCRIPTION:Every Thursday evening\, we are CHIC!  Pull on your sequins and your best disco outfit and dance to floor filling Disco House and club R & B!  Open til 3am \nOur Cocktail Bar opens at 4pm with Happy Hours til 8pm
URL:https://freedombarsoho.com/event/chic-2024-11-14/2026-08-06/
LOCATION:Freedom Bar\, 66 Wardour Street\, London\, W1F 0TA\, United Kingdom
GEO:51.5128274;-0.1335658
X-APPLE-STRUCTURED-LOCATION;VALUE=URI;X-ADDRESS=Freedom Bar 66 Wardour Street London W1F 0TA United Kingdom;X-APPLE-RADIUS=500;X-TITLE=66 Wardour Street:geo:-0.1335658,51.5128274
END:VEVENT
BEGIN:VEVENT
DTSTART;TZID=Europe/London:20260810T220000
DTEND;TZID=Europe/London:20260811T030000
DTSTAMP:20260420T092119
CREATED:20241108T163119Z
LAST-MODIFIED:20250630T124850Z
UID:18922-1786399200-1786417200@freedombarsoho.com
SUMMARY:Kinky Kabaret
DESCRIPTION:The West End’s finest singers\, dancers\, and drag perform for their peers at this iconic Monday night show. \nOur cocktail Bar opens at 4pm with Happy Hours til 8pm.
URL:https://freedombarsoho.com/event/kinky-kabaret-2/2026-08-10/
LOCATION:Freedom Bar\, 66 Wardour Street\, London\, W1F 0TA\, United Kingdom
GEO:51.5128274;-0.1335658
X-APPLE-STRUCTURED-LOCATION;VALUE=URI;X-ADDRESS=Freedom Bar 66 Wardour Street London W1F 0TA United Kingdom;X-APPLE-RADIUS=500;X-TITLE=66 Wardour Street:geo:-0.1335658,51.5128274
END:VEVENT
BEGIN:VEVENT
DTSTART;TZID=Europe/London:20260813T220000
DTEND;TZID=Europe/London:20260814T030000
DTSTAMP:20260420T092119
CREATED:20221024T122849Z
LAST-MODIFIED:20221024T122849Z
UID:19161-1786658400-1786676400@freedombarsoho.com
SUMMARY:"Chic"
DESCRIPTION:Every Thursday evening\, we are CHIC!  Pull on your sequins and your best disco outfit and dance to floor filling Disco House and club R & B!  Open til 3am \nOur Cocktail Bar opens at 4pm with Happy Hours til 8pm
URL:https://freedombarsoho.com/event/chic-2024-11-14/2026-08-13/
LOCATION:Freedom Bar\, 66 Wardour Street\, London\, W1F 0TA\, United Kingdom
GEO:51.5128274;-0.1335658
X-APPLE-STRUCTURED-LOCATION;VALUE=URI;X-ADDRESS=Freedom Bar 66 Wardour Street London W1F 0TA United Kingdom;X-APPLE-RADIUS=500;X-TITLE=66 Wardour Street:geo:-0.1335658,51.5128274
END:VEVENT
BEGIN:VEVENT
DTSTART;TZID=Europe/London:20260817T220000
DTEND;TZID=Europe/London:20260818T030000
DTSTAMP:20260420T092119
CREATED:20241108T163119Z
LAST-MODIFIED:20250630T124850Z
UID:18923-1787004000-1787022000@freedombarsoho.com
SUMMARY:Kinky Kabaret
DESCRIPTION:The West End’s finest singers\, dancers\, and drag perform for their peers at this iconic Monday night show. \nOur cocktail Bar opens at 4pm with Happy Hours til 8pm.
URL:https://freedombarsoho.com/event/kinky-kabaret-2/2026-08-17/
LOCATION:Freedom Bar\, 66 Wardour Street\, London\, W1F 0TA\, United Kingdom
GEO:51.5128274;-0.1335658
X-APPLE-STRUCTURED-LOCATION;VALUE=URI;X-ADDRESS=Freedom Bar 66 Wardour Street London W1F 0TA United Kingdom;X-APPLE-RADIUS=500;X-TITLE=66 Wardour Street:geo:-0.1335658,51.5128274
END:VEVENT
BEGIN:VEVENT
DTSTART;TZID=Europe/London:20260820T220000
DTEND;TZID=Europe/London:20260821T030000
DTSTAMP:20260420T092119
CREATED:20221024T122849Z
LAST-MODIFIED:20221024T122849Z
UID:19162-1787263200-1787281200@freedombarsoho.com
SUMMARY:"Chic"
DESCRIPTION:Every Thursday evening\, we are CHIC!  Pull on your sequins and your best disco outfit and dance to floor filling Disco House and club R & B!  Open til 3am \nOur Cocktail Bar opens at 4pm with Happy Hours til 8pm
URL:https://freedombarsoho.com/event/chic-2024-11-14/2026-08-20/
LOCATION:Freedom Bar\, 66 Wardour Street\, London\, W1F 0TA\, United Kingdom
GEO:51.5128274;-0.1335658
X-APPLE-STRUCTURED-LOCATION;VALUE=URI;X-ADDRESS=Freedom Bar 66 Wardour Street London W1F 0TA United Kingdom;X-APPLE-RADIUS=500;X-TITLE=66 Wardour Street:geo:-0.1335658,51.5128274
END:VEVENT
BEGIN:VEVENT
DTSTART;TZID=Europe/London:20260824T220000
DTEND;TZID=Europe/London:20260825T030000
DTSTAMP:20260420T092119
CREATED:20241108T163119Z
LAST-MODIFIED:20250630T124850Z
UID:18924-1787608800-1787626800@freedombarsoho.com
SUMMARY:Kinky Kabaret
DESCRIPTION:The West End’s finest singers\, dancers\, and drag perform for their peers at this iconic Monday night show. \nOur cocktail Bar opens at 4pm with Happy Hours til 8pm.
URL:https://freedombarsoho.com/event/kinky-kabaret-2/2026-08-24/
LOCATION:Freedom Bar\, 66 Wardour Street\, London\, W1F 0TA\, United Kingdom
GEO:51.5128274;-0.1335658
X-APPLE-STRUCTURED-LOCATION;VALUE=URI;X-ADDRESS=Freedom Bar 66 Wardour Street London W1F 0TA United Kingdom;X-APPLE-RADIUS=500;X-TITLE=66 Wardour Street:geo:-0.1335658,51.5128274
END:VEVENT
BEGIN:VEVENT
DTSTART;TZID=Europe/London:20260827T220000
DTEND;TZID=Europe/London:20260828T030000
DTSTAMP:20260420T092119
CREATED:20221024T122849Z
LAST-MODIFIED:20221024T122849Z
UID:19163-1787868000-1787886000@freedombarsoho.com
SUMMARY:"Chic"
DESCRIPTION:Every Thursday evening\, we are CHIC!  Pull on your sequins and your best disco outfit and dance to floor filling Disco House and club R & B!  Open til 3am \nOur Cocktail Bar opens at 4pm with Happy Hours til 8pm
URL:https://freedombarsoho.com/event/chic-2024-11-14/2026-08-27/
LOCATION:Freedom Bar\, 66 Wardour Street\, London\, W1F 0TA\, United Kingdom
GEO:51.5128274;-0.1335658
X-APPLE-STRUCTURED-LOCATION;VALUE=URI;X-ADDRESS=Freedom Bar 66 Wardour Street London W1F 0TA United Kingdom;X-APPLE-RADIUS=500;X-TITLE=66 Wardour Street:geo:-0.1335658,51.5128274
END:VEVENT
END:VCALENDAR