BEGIN:VCALENDAR
VERSION:2.0
PRODID:-//Freedom Bar - ECPv6.15.20//NONSGML v1.0//EN
CALSCALE:GREGORIAN
METHOD:PUBLISH
X-ORIGINAL-URL:https://freedombarsoho.com
X-WR-CALDESC:Events for Freedom Bar
REFRESH-INTERVAL;VALUE=DURATION:PT1H
X-Robots-Tag:noindex
X-PUBLISHED-TTL:PT1H
BEGIN:VTIMEZONE
TZID:Europe/London
BEGIN:DAYLIGHT
TZOFFSETFROM:+0000
TZOFFSETTO:+0100
TZNAME:BST
DTSTART:20240331T010000
END:DAYLIGHT
BEGIN:STANDARD
TZOFFSETFROM:+0100
TZOFFSETTO:+0000
TZNAME:GMT
DTSTART:20241027T010000
END:STANDARD
BEGIN:DAYLIGHT
TZOFFSETFROM:+0000
TZOFFSETTO:+0100
TZNAME:BST
DTSTART:20250330T010000
END:DAYLIGHT
BEGIN:STANDARD
TZOFFSETFROM:+0100
TZOFFSETTO:+0000
TZNAME:GMT
DTSTART:20251026T010000
END:STANDARD
BEGIN:DAYLIGHT
TZOFFSETFROM:+0000
TZOFFSETTO:+0100
TZNAME:BST
DTSTART:20260329T010000
END:DAYLIGHT
BEGIN:STANDARD
TZOFFSETFROM:+0100
TZOFFSETTO:+0000
TZNAME:GMT
DTSTART:20261025T010000
END:STANDARD
END:VTIMEZONE
BEGIN:VEVENT
DTSTART;TZID=Europe/London:20251101T210000
DTEND;TZID=Europe/London:20251102T030000
DTSTAMP:20260420T073157
CREATED:20241108T162722Z
LAST-MODIFIED:20241108T162722Z
UID:18742-1762030800-1762052400@freedombarsoho.com
SUMMARY:FABULOUS!
DESCRIPTION:Saturday nights at Freedom are FABULOUS! Dress up\, shimmy down\, dance on the poles\, savour some cocktails and enjoy the best Soho Saturday night in town!  DJs playing til 3am \nOur cocktail Bar opens  from 4pm
URL:https://freedombarsoho.com/event/fabulous/2025-11-01/
LOCATION:Freedom Bar\, 66 Wardour Street\, London\, W1F 0TA\, United Kingdom
GEO:51.5128274;-0.1335658
X-APPLE-STRUCTURED-LOCATION;VALUE=URI;X-ADDRESS=Freedom Bar 66 Wardour Street London W1F 0TA United Kingdom;X-APPLE-RADIUS=500;X-TITLE=66 Wardour Street:geo:-0.1335658,51.5128274
END:VEVENT
BEGIN:VEVENT
DTSTART;TZID=Europe/London:20251103T220000
DTEND;TZID=Europe/London:20251104T030000
DTSTAMP:20260420T073157
CREATED:20241108T163119Z
LAST-MODIFIED:20250630T124845Z
UID:18808-1762207200-1762225200@freedombarsoho.com
SUMMARY:Kinky Kabaret
DESCRIPTION:The West End’s finest singers\, dancers\, and drag perform for their peers at this iconic Monday night show. \nOur cocktail Bar opens at 4pm with Happy Hours til 8pm.
URL:https://freedombarsoho.com/event/kinky-kabaret-2/2025-11-03/
LOCATION:Freedom Bar\, 66 Wardour Street\, London\, W1F 0TA\, United Kingdom
GEO:51.5128274;-0.1335658
X-APPLE-STRUCTURED-LOCATION;VALUE=URI;X-ADDRESS=Freedom Bar 66 Wardour Street London W1F 0TA United Kingdom;X-APPLE-RADIUS=500;X-TITLE=66 Wardour Street:geo:-0.1335658,51.5128274
END:VEVENT
BEGIN:VEVENT
DTSTART;TZID=Europe/London:20251105T220000
DTEND;TZID=Europe/London:20251106T030000
DTSTAMP:20260420T073157
CREATED:20241108T163611Z
LAST-MODIFIED:20241108T163611Z
UID:18627-1762380000-1762398000@freedombarsoho.com
SUMMARY:High on Heels
DESCRIPTION:Our weekly celebration of Drag and Divas\, lipstick powder and paint\, lights\, cameras….ACTION!!
URL:https://freedombarsoho.com/event/high-on-heels-2/2025-11-05/
LOCATION:Freedom Bar\, 66 Wardour Street\, London\, W1F 0TA\, United Kingdom
GEO:51.5128274;-0.1335658
X-APPLE-STRUCTURED-LOCATION;VALUE=URI;X-ADDRESS=Freedom Bar 66 Wardour Street London W1F 0TA United Kingdom;X-APPLE-RADIUS=500;X-TITLE=66 Wardour Street:geo:-0.1335658,51.5128274
END:VEVENT
BEGIN:VEVENT
DTSTART;TZID=Europe/London:20251106T220000
DTEND;TZID=Europe/London:20251107T030000
DTSTAMP:20260420T073157
CREATED:20221024T122849Z
LAST-MODIFIED:20221024T122849Z
UID:19067-1762466400-1762484400@freedombarsoho.com
SUMMARY:"Chic"
DESCRIPTION:Every Thursday evening\, we are CHIC!  Pull on your sequins and your best disco outfit and dance to floor filling Disco House and club R & B!  Open til 3am \nOur Cocktail Bar opens at 4pm with Happy Hours til 8pm
URL:https://freedombarsoho.com/event/chic-2024-11-14/2025-11-06/
LOCATION:Freedom Bar\, 66 Wardour Street\, London\, W1F 0TA\, United Kingdom
GEO:51.5128274;-0.1335658
X-APPLE-STRUCTURED-LOCATION;VALUE=URI;X-ADDRESS=Freedom Bar 66 Wardour Street London W1F 0TA United Kingdom;X-APPLE-RADIUS=500;X-TITLE=66 Wardour Street:geo:-0.1335658,51.5128274
END:VEVENT
BEGIN:VEVENT
DTSTART;TZID=Europe/London:20251107T220000
DTEND;TZID=Europe/London:20251108T030000
DTSTAMP:20260420T073157
CREATED:20241108T164033Z
LAST-MODIFIED:20241108T164033Z
UID:18575-1762552800-1762570800@freedombarsoho.com
SUMMARY:Freedom House Party
DESCRIPTION:You’ve made it to the weekend so time to have some fun at Freedom’s House Party! The best DJs will keep you dancing all night long…
URL:https://freedombarsoho.com/event/freedom-house-party/2025-11-07/
LOCATION:Freedom Bar\, 66 Wardour Street\, London\, W1F 0TA\, United Kingdom
GEO:51.5128274;-0.1335658
X-APPLE-STRUCTURED-LOCATION;VALUE=URI;X-ADDRESS=Freedom Bar 66 Wardour Street London W1F 0TA United Kingdom;X-APPLE-RADIUS=500;X-TITLE=66 Wardour Street:geo:-0.1335658,51.5128274
END:VEVENT
BEGIN:VEVENT
DTSTART;TZID=Europe/London:20251108T210000
DTEND;TZID=Europe/London:20251109T030000
DTSTAMP:20260420T073157
CREATED:20241108T162722Z
LAST-MODIFIED:20241108T162722Z
UID:18743-1762635600-1762657200@freedombarsoho.com
SUMMARY:FABULOUS!
DESCRIPTION:Saturday nights at Freedom are FABULOUS! Dress up\, shimmy down\, dance on the poles\, savour some cocktails and enjoy the best Soho Saturday night in town!  DJs playing til 3am \nOur cocktail Bar opens  from 4pm
URL:https://freedombarsoho.com/event/fabulous/2025-11-08/
LOCATION:Freedom Bar\, 66 Wardour Street\, London\, W1F 0TA\, United Kingdom
GEO:51.5128274;-0.1335658
X-APPLE-STRUCTURED-LOCATION;VALUE=URI;X-ADDRESS=Freedom Bar 66 Wardour Street London W1F 0TA United Kingdom;X-APPLE-RADIUS=500;X-TITLE=66 Wardour Street:geo:-0.1335658,51.5128274
END:VEVENT
BEGIN:VEVENT
DTSTART;TZID=Europe/London:20251110T220000
DTEND;TZID=Europe/London:20251111T030000
DTSTAMP:20260420T073157
CREATED:20241108T163119Z
LAST-MODIFIED:20250630T124845Z
UID:18809-1762812000-1762830000@freedombarsoho.com
SUMMARY:Kinky Kabaret
DESCRIPTION:The West End’s finest singers\, dancers\, and drag perform for their peers at this iconic Monday night show. \nOur cocktail Bar opens at 4pm with Happy Hours til 8pm.
URL:https://freedombarsoho.com/event/kinky-kabaret-2/2025-11-10/
LOCATION:Freedom Bar\, 66 Wardour Street\, London\, W1F 0TA\, United Kingdom
GEO:51.5128274;-0.1335658
X-APPLE-STRUCTURED-LOCATION;VALUE=URI;X-ADDRESS=Freedom Bar 66 Wardour Street London W1F 0TA United Kingdom;X-APPLE-RADIUS=500;X-TITLE=66 Wardour Street:geo:-0.1335658,51.5128274
END:VEVENT
BEGIN:VEVENT
DTSTART;TZID=Europe/London:20251112T220000
DTEND;TZID=Europe/London:20251113T030000
DTSTAMP:20260420T073157
CREATED:20241108T163611Z
LAST-MODIFIED:20241108T163611Z
UID:18628-1762984800-1763002800@freedombarsoho.com
SUMMARY:High on Heels
DESCRIPTION:Our weekly celebration of Drag and Divas\, lipstick powder and paint\, lights\, cameras….ACTION!!
URL:https://freedombarsoho.com/event/high-on-heels-2/2025-11-12/
LOCATION:Freedom Bar\, 66 Wardour Street\, London\, W1F 0TA\, United Kingdom
GEO:51.5128274;-0.1335658
X-APPLE-STRUCTURED-LOCATION;VALUE=URI;X-ADDRESS=Freedom Bar 66 Wardour Street London W1F 0TA United Kingdom;X-APPLE-RADIUS=500;X-TITLE=66 Wardour Street:geo:-0.1335658,51.5128274
END:VEVENT
BEGIN:VEVENT
DTSTART;TZID=Europe/London:20251113T220000
DTEND;TZID=Europe/London:20251114T030000
DTSTAMP:20260420T073157
CREATED:20221024T122849Z
LAST-MODIFIED:20221024T122849Z
UID:19068-1763071200-1763089200@freedombarsoho.com
SUMMARY:"Chic"
DESCRIPTION:Every Thursday evening\, we are CHIC!  Pull on your sequins and your best disco outfit and dance to floor filling Disco House and club R & B!  Open til 3am \nOur Cocktail Bar opens at 4pm with Happy Hours til 8pm
URL:https://freedombarsoho.com/event/chic-2024-11-14/2025-11-13/
LOCATION:Freedom Bar\, 66 Wardour Street\, London\, W1F 0TA\, United Kingdom
GEO:51.5128274;-0.1335658
X-APPLE-STRUCTURED-LOCATION;VALUE=URI;X-ADDRESS=Freedom Bar 66 Wardour Street London W1F 0TA United Kingdom;X-APPLE-RADIUS=500;X-TITLE=66 Wardour Street:geo:-0.1335658,51.5128274
END:VEVENT
BEGIN:VEVENT
DTSTART;TZID=Europe/London:20251115T210000
DTEND;TZID=Europe/London:20251116T030000
DTSTAMP:20260420T073157
CREATED:20241108T162722Z
LAST-MODIFIED:20241108T162722Z
UID:18744-1763240400-1763262000@freedombarsoho.com
SUMMARY:FABULOUS!
DESCRIPTION:Saturday nights at Freedom are FABULOUS! Dress up\, shimmy down\, dance on the poles\, savour some cocktails and enjoy the best Soho Saturday night in town!  DJs playing til 3am \nOur cocktail Bar opens  from 4pm
URL:https://freedombarsoho.com/event/fabulous/2025-11-15/
LOCATION:Freedom Bar\, 66 Wardour Street\, London\, W1F 0TA\, United Kingdom
GEO:51.5128274;-0.1335658
X-APPLE-STRUCTURED-LOCATION;VALUE=URI;X-ADDRESS=Freedom Bar 66 Wardour Street London W1F 0TA United Kingdom;X-APPLE-RADIUS=500;X-TITLE=66 Wardour Street:geo:-0.1335658,51.5128274
END:VEVENT
BEGIN:VEVENT
DTSTART;TZID=Europe/London:20251117T080000
DTEND;TZID=Europe/London:20251117T170000
DTSTAMP:20260420T073157
CREATED:20251117T140300Z
LAST-MODIFIED:20251117T144307Z
UID:19312-1763366400-1763398800@freedombarsoho.com
SUMMARY:Soho Studio 54 New Year's Eve Party
DESCRIPTION:Put on your glitter and sequins for our Soho Studio 54 New Year’s Eve Party!  Cocktails\, entertainment and DJs playing all night long\, because Disco never dies! \nWelcome 2026 in Studio 54 style!  Tickets £10 for entry before 10pm  Also taking table bookings for six\, eight or ten people. For Tickets Click here \n  \n 
URL:https://freedombarsoho.com/event/soho-studio-54-new-years-eve-party/
LOCATION:Freedom Bar\, 66 Wardour Street\, London\, W1F 0TA\, United Kingdom
GEO:51.5128274;-0.1335658
X-APPLE-STRUCTURED-LOCATION;VALUE=URI;X-ADDRESS=Freedom Bar 66 Wardour Street London W1F 0TA United Kingdom;X-APPLE-RADIUS=500;X-TITLE=66 Wardour Street:geo:-0.1335658,51.5128274
END:VEVENT
BEGIN:VEVENT
DTSTART;TZID=Europe/London:20251117T220000
DTEND;TZID=Europe/London:20251118T030000
DTSTAMP:20260420T073157
CREATED:20241108T163119Z
LAST-MODIFIED:20250630T124845Z
UID:18810-1763416800-1763434800@freedombarsoho.com
SUMMARY:Kinky Kabaret
DESCRIPTION:The West End’s finest singers\, dancers\, and drag perform for their peers at this iconic Monday night show. \nOur cocktail Bar opens at 4pm with Happy Hours til 8pm.
URL:https://freedombarsoho.com/event/kinky-kabaret-2/2025-11-17/
LOCATION:Freedom Bar\, 66 Wardour Street\, London\, W1F 0TA\, United Kingdom
GEO:51.5128274;-0.1335658
X-APPLE-STRUCTURED-LOCATION;VALUE=URI;X-ADDRESS=Freedom Bar 66 Wardour Street London W1F 0TA United Kingdom;X-APPLE-RADIUS=500;X-TITLE=66 Wardour Street:geo:-0.1335658,51.5128274
END:VEVENT
BEGIN:VEVENT
DTSTART;TZID=Europe/London:20251119T220000
DTEND;TZID=Europe/London:20251120T030000
DTSTAMP:20260420T073157
CREATED:20241108T163611Z
LAST-MODIFIED:20241108T163611Z
UID:18629-1763589600-1763607600@freedombarsoho.com
SUMMARY:High on Heels
DESCRIPTION:Our weekly celebration of Drag and Divas\, lipstick powder and paint\, lights\, cameras….ACTION!!
URL:https://freedombarsoho.com/event/high-on-heels-2/2025-11-19/
LOCATION:Freedom Bar\, 66 Wardour Street\, London\, W1F 0TA\, United Kingdom
GEO:51.5128274;-0.1335658
X-APPLE-STRUCTURED-LOCATION;VALUE=URI;X-ADDRESS=Freedom Bar 66 Wardour Street London W1F 0TA United Kingdom;X-APPLE-RADIUS=500;X-TITLE=66 Wardour Street:geo:-0.1335658,51.5128274
END:VEVENT
BEGIN:VEVENT
DTSTART;TZID=Europe/London:20251120T220000
DTEND;TZID=Europe/London:20251121T030000
DTSTAMP:20260420T073157
CREATED:20221024T122849Z
LAST-MODIFIED:20221024T122849Z
UID:19069-1763676000-1763694000@freedombarsoho.com
SUMMARY:"Chic"
DESCRIPTION:Every Thursday evening\, we are CHIC!  Pull on your sequins and your best disco outfit and dance to floor filling Disco House and club R & B!  Open til 3am \nOur Cocktail Bar opens at 4pm with Happy Hours til 8pm
URL:https://freedombarsoho.com/event/chic-2024-11-14/2025-11-20/
LOCATION:Freedom Bar\, 66 Wardour Street\, London\, W1F 0TA\, United Kingdom
GEO:51.5128274;-0.1335658
X-APPLE-STRUCTURED-LOCATION;VALUE=URI;X-ADDRESS=Freedom Bar 66 Wardour Street London W1F 0TA United Kingdom;X-APPLE-RADIUS=500;X-TITLE=66 Wardour Street:geo:-0.1335658,51.5128274
END:VEVENT
BEGIN:VEVENT
DTSTART;TZID=Europe/London:20251122T210000
DTEND;TZID=Europe/London:20251123T030000
DTSTAMP:20260420T073157
CREATED:20241108T162722Z
LAST-MODIFIED:20241108T162722Z
UID:18745-1763845200-1763866800@freedombarsoho.com
SUMMARY:FABULOUS!
DESCRIPTION:Saturday nights at Freedom are FABULOUS! Dress up\, shimmy down\, dance on the poles\, savour some cocktails and enjoy the best Soho Saturday night in town!  DJs playing til 3am \nOur cocktail Bar opens  from 4pm
URL:https://freedombarsoho.com/event/fabulous/2025-11-22/
LOCATION:Freedom Bar\, 66 Wardour Street\, London\, W1F 0TA\, United Kingdom
GEO:51.5128274;-0.1335658
X-APPLE-STRUCTURED-LOCATION;VALUE=URI;X-ADDRESS=Freedom Bar 66 Wardour Street London W1F 0TA United Kingdom;X-APPLE-RADIUS=500;X-TITLE=66 Wardour Street:geo:-0.1335658,51.5128274
END:VEVENT
BEGIN:VEVENT
DTSTART;TZID=Europe/London:20251124T220000
DTEND;TZID=Europe/London:20251125T030000
DTSTAMP:20260420T073157
CREATED:20241108T163119Z
LAST-MODIFIED:20250630T124846Z
UID:18811-1764021600-1764039600@freedombarsoho.com
SUMMARY:Kinky Kabaret
DESCRIPTION:The West End’s finest singers\, dancers\, and drag perform for their peers at this iconic Monday night show. \nOur cocktail Bar opens at 4pm with Happy Hours til 8pm.
URL:https://freedombarsoho.com/event/kinky-kabaret-2/2025-11-24/
LOCATION:Freedom Bar\, 66 Wardour Street\, London\, W1F 0TA\, United Kingdom
GEO:51.5128274;-0.1335658
X-APPLE-STRUCTURED-LOCATION;VALUE=URI;X-ADDRESS=Freedom Bar 66 Wardour Street London W1F 0TA United Kingdom;X-APPLE-RADIUS=500;X-TITLE=66 Wardour Street:geo:-0.1335658,51.5128274
END:VEVENT
BEGIN:VEVENT
DTSTART;TZID=Europe/London:20251126T220000
DTEND;TZID=Europe/London:20251127T030000
DTSTAMP:20260420T073157
CREATED:20241108T163611Z
LAST-MODIFIED:20241108T163611Z
UID:18630-1764194400-1764212400@freedombarsoho.com
SUMMARY:High on Heels
DESCRIPTION:Our weekly celebration of Drag and Divas\, lipstick powder and paint\, lights\, cameras….ACTION!!
URL:https://freedombarsoho.com/event/high-on-heels-2/2025-11-26/
LOCATION:Freedom Bar\, 66 Wardour Street\, London\, W1F 0TA\, United Kingdom
GEO:51.5128274;-0.1335658
X-APPLE-STRUCTURED-LOCATION;VALUE=URI;X-ADDRESS=Freedom Bar 66 Wardour Street London W1F 0TA United Kingdom;X-APPLE-RADIUS=500;X-TITLE=66 Wardour Street:geo:-0.1335658,51.5128274
END:VEVENT
BEGIN:VEVENT
DTSTART;TZID=Europe/London:20251127T220000
DTEND;TZID=Europe/London:20251128T030000
DTSTAMP:20260420T073157
CREATED:20221024T122849Z
LAST-MODIFIED:20221024T122849Z
UID:19070-1764280800-1764298800@freedombarsoho.com
SUMMARY:"Chic"
DESCRIPTION:Every Thursday evening\, we are CHIC!  Pull on your sequins and your best disco outfit and dance to floor filling Disco House and club R & B!  Open til 3am \nOur Cocktail Bar opens at 4pm with Happy Hours til 8pm
URL:https://freedombarsoho.com/event/chic-2024-11-14/2025-11-27/
LOCATION:Freedom Bar\, 66 Wardour Street\, London\, W1F 0TA\, United Kingdom
GEO:51.5128274;-0.1335658
X-APPLE-STRUCTURED-LOCATION;VALUE=URI;X-ADDRESS=Freedom Bar 66 Wardour Street London W1F 0TA United Kingdom;X-APPLE-RADIUS=500;X-TITLE=66 Wardour Street:geo:-0.1335658,51.5128274
END:VEVENT
BEGIN:VEVENT
DTSTART;TZID=Europe/London:20251129T210000
DTEND;TZID=Europe/London:20251130T030000
DTSTAMP:20260420T073157
CREATED:20241108T162722Z
LAST-MODIFIED:20241108T162722Z
UID:18746-1764450000-1764471600@freedombarsoho.com
SUMMARY:FABULOUS!
DESCRIPTION:Saturday nights at Freedom are FABULOUS! Dress up\, shimmy down\, dance on the poles\, savour some cocktails and enjoy the best Soho Saturday night in town!  DJs playing til 3am \nOur cocktail Bar opens  from 4pm
URL:https://freedombarsoho.com/event/fabulous/2025-11-29/
LOCATION:Freedom Bar\, 66 Wardour Street\, London\, W1F 0TA\, United Kingdom
GEO:51.5128274;-0.1335658
X-APPLE-STRUCTURED-LOCATION;VALUE=URI;X-ADDRESS=Freedom Bar 66 Wardour Street London W1F 0TA United Kingdom;X-APPLE-RADIUS=500;X-TITLE=66 Wardour Street:geo:-0.1335658,51.5128274
END:VEVENT
END:VCALENDAR