BEGIN:VCALENDAR
VERSION:2.0
PRODID:-//Freedom Bar - ECPv6.15.20//NONSGML v1.0//EN
CALSCALE:GREGORIAN
METHOD:PUBLISH
X-WR-CALNAME:Freedom Bar
X-ORIGINAL-URL:https://freedombarsoho.com
X-WR-CALDESC:Events for Freedom Bar
REFRESH-INTERVAL;VALUE=DURATION:PT1H
X-Robots-Tag:noindex
X-PUBLISHED-TTL:PT1H
BEGIN:VTIMEZONE
TZID:Europe/London
BEGIN:DAYLIGHT
TZOFFSETFROM:+0000
TZOFFSETTO:+0100
TZNAME:BST
DTSTART:20250330T010000
END:DAYLIGHT
BEGIN:STANDARD
TZOFFSETFROM:+0100
TZOFFSETTO:+0000
TZNAME:GMT
DTSTART:20251026T010000
END:STANDARD
BEGIN:DAYLIGHT
TZOFFSETFROM:+0000
TZOFFSETTO:+0100
TZNAME:BST
DTSTART:20260329T010000
END:DAYLIGHT
BEGIN:STANDARD
TZOFFSETFROM:+0100
TZOFFSETTO:+0000
TZNAME:GMT
DTSTART:20261025T010000
END:STANDARD
BEGIN:DAYLIGHT
TZOFFSETFROM:+0000
TZOFFSETTO:+0100
TZNAME:BST
DTSTART:20270328T010000
END:DAYLIGHT
BEGIN:STANDARD
TZOFFSETFROM:+0100
TZOFFSETTO:+0000
TZNAME:GMT
DTSTART:20271031T010000
END:STANDARD
END:VTIMEZONE
BEGIN:VEVENT
DTSTART;TZID=Europe/London:20260202T220000
DTEND;TZID=Europe/London:20260203T030000
DTSTAMP:20260420T030013
CREATED:20241108T163119Z
LAST-MODIFIED:20250630T124847Z
UID:18895-1770069600-1770087600@freedombarsoho.com
SUMMARY:Kinky Kabaret
DESCRIPTION:The West End’s finest singers\, dancers\, and drag perform for their peers at this iconic Monday night show. \nOur cocktail Bar opens at 4pm with Happy Hours til 8pm.
URL:https://freedombarsoho.com/event/kinky-kabaret-2/2026-02-02/
LOCATION:Freedom Bar\, 66 Wardour Street\, London\, W1F 0TA\, United Kingdom
GEO:51.5128274;-0.1335658
X-APPLE-STRUCTURED-LOCATION;VALUE=URI;X-ADDRESS=Freedom Bar 66 Wardour Street London W1F 0TA United Kingdom;X-APPLE-RADIUS=500;X-TITLE=66 Wardour Street:geo:-0.1335658,51.5128274
END:VEVENT
BEGIN:VEVENT
DTSTART;TZID=Europe/London:20260205T220000
DTEND;TZID=Europe/London:20260206T030000
DTSTAMP:20260420T030013
CREATED:20221024T122849Z
LAST-MODIFIED:20221024T122849Z
UID:19134-1770328800-1770346800@freedombarsoho.com
SUMMARY:"Chic"
DESCRIPTION:Every Thursday evening\, we are CHIC!  Pull on your sequins and your best disco outfit and dance to floor filling Disco House and club R & B!  Open til 3am \nOur Cocktail Bar opens at 4pm with Happy Hours til 8pm
URL:https://freedombarsoho.com/event/chic-2024-11-14/2026-02-05/
LOCATION:Freedom Bar\, 66 Wardour Street\, London\, W1F 0TA\, United Kingdom
GEO:51.5128274;-0.1335658
X-APPLE-STRUCTURED-LOCATION;VALUE=URI;X-ADDRESS=Freedom Bar 66 Wardour Street London W1F 0TA United Kingdom;X-APPLE-RADIUS=500;X-TITLE=66 Wardour Street:geo:-0.1335658,51.5128274
END:VEVENT
BEGIN:VEVENT
DTSTART;TZID=Europe/London:20260209T220000
DTEND;TZID=Europe/London:20260210T030000
DTSTAMP:20260420T030013
CREATED:20241108T163119Z
LAST-MODIFIED:20250630T124847Z
UID:18896-1770674400-1770692400@freedombarsoho.com
SUMMARY:Kinky Kabaret
DESCRIPTION:The West End’s finest singers\, dancers\, and drag perform for their peers at this iconic Monday night show. \nOur cocktail Bar opens at 4pm with Happy Hours til 8pm.
URL:https://freedombarsoho.com/event/kinky-kabaret-2/2026-02-09/
LOCATION:Freedom Bar\, 66 Wardour Street\, London\, W1F 0TA\, United Kingdom
GEO:51.5128274;-0.1335658
X-APPLE-STRUCTURED-LOCATION;VALUE=URI;X-ADDRESS=Freedom Bar 66 Wardour Street London W1F 0TA United Kingdom;X-APPLE-RADIUS=500;X-TITLE=66 Wardour Street:geo:-0.1335658,51.5128274
END:VEVENT
BEGIN:VEVENT
DTSTART;TZID=Europe/London:20260212T220000
DTEND;TZID=Europe/London:20260213T030000
DTSTAMP:20260420T030013
CREATED:20221024T122849Z
LAST-MODIFIED:20221024T122849Z
UID:19135-1770933600-1770951600@freedombarsoho.com
SUMMARY:"Chic"
DESCRIPTION:Every Thursday evening\, we are CHIC!  Pull on your sequins and your best disco outfit and dance to floor filling Disco House and club R & B!  Open til 3am \nOur Cocktail Bar opens at 4pm with Happy Hours til 8pm
URL:https://freedombarsoho.com/event/chic-2024-11-14/2026-02-12/
LOCATION:Freedom Bar\, 66 Wardour Street\, London\, W1F 0TA\, United Kingdom
GEO:51.5128274;-0.1335658
X-APPLE-STRUCTURED-LOCATION;VALUE=URI;X-ADDRESS=Freedom Bar 66 Wardour Street London W1F 0TA United Kingdom;X-APPLE-RADIUS=500;X-TITLE=66 Wardour Street:geo:-0.1335658,51.5128274
END:VEVENT
BEGIN:VEVENT
DTSTART;TZID=Europe/London:20260216T220000
DTEND;TZID=Europe/London:20260217T030000
DTSTAMP:20260420T030013
CREATED:20241108T163119Z
LAST-MODIFIED:20250630T124847Z
UID:18897-1771279200-1771297200@freedombarsoho.com
SUMMARY:Kinky Kabaret
DESCRIPTION:The West End’s finest singers\, dancers\, and drag perform for their peers at this iconic Monday night show. \nOur cocktail Bar opens at 4pm with Happy Hours til 8pm.
URL:https://freedombarsoho.com/event/kinky-kabaret-2/2026-02-16/
LOCATION:Freedom Bar\, 66 Wardour Street\, London\, W1F 0TA\, United Kingdom
GEO:51.5128274;-0.1335658
X-APPLE-STRUCTURED-LOCATION;VALUE=URI;X-ADDRESS=Freedom Bar 66 Wardour Street London W1F 0TA United Kingdom;X-APPLE-RADIUS=500;X-TITLE=66 Wardour Street:geo:-0.1335658,51.5128274
END:VEVENT
BEGIN:VEVENT
DTSTART;TZID=Europe/London:20260219T220000
DTEND;TZID=Europe/London:20260220T030000
DTSTAMP:20260420T030013
CREATED:20221024T122849Z
LAST-MODIFIED:20221024T122849Z
UID:19136-1771538400-1771556400@freedombarsoho.com
SUMMARY:"Chic"
DESCRIPTION:Every Thursday evening\, we are CHIC!  Pull on your sequins and your best disco outfit and dance to floor filling Disco House and club R & B!  Open til 3am \nOur Cocktail Bar opens at 4pm with Happy Hours til 8pm
URL:https://freedombarsoho.com/event/chic-2024-11-14/2026-02-19/
LOCATION:Freedom Bar\, 66 Wardour Street\, London\, W1F 0TA\, United Kingdom
GEO:51.5128274;-0.1335658
X-APPLE-STRUCTURED-LOCATION;VALUE=URI;X-ADDRESS=Freedom Bar 66 Wardour Street London W1F 0TA United Kingdom;X-APPLE-RADIUS=500;X-TITLE=66 Wardour Street:geo:-0.1335658,51.5128274
END:VEVENT
BEGIN:VEVENT
DTSTART;TZID=Europe/London:20260223T220000
DTEND;TZID=Europe/London:20260224T030000
DTSTAMP:20260420T030013
CREATED:20241108T163119Z
LAST-MODIFIED:20250630T124847Z
UID:18898-1771884000-1771902000@freedombarsoho.com
SUMMARY:Kinky Kabaret
DESCRIPTION:The West End’s finest singers\, dancers\, and drag perform for their peers at this iconic Monday night show. \nOur cocktail Bar opens at 4pm with Happy Hours til 8pm.
URL:https://freedombarsoho.com/event/kinky-kabaret-2/2026-02-23/
LOCATION:Freedom Bar\, 66 Wardour Street\, London\, W1F 0TA\, United Kingdom
GEO:51.5128274;-0.1335658
X-APPLE-STRUCTURED-LOCATION;VALUE=URI;X-ADDRESS=Freedom Bar 66 Wardour Street London W1F 0TA United Kingdom;X-APPLE-RADIUS=500;X-TITLE=66 Wardour Street:geo:-0.1335658,51.5128274
END:VEVENT
BEGIN:VEVENT
DTSTART;TZID=Europe/London:20260226T220000
DTEND;TZID=Europe/London:20260227T030000
DTSTAMP:20260420T030013
CREATED:20221024T122849Z
LAST-MODIFIED:20221024T122849Z
UID:19137-1772143200-1772161200@freedombarsoho.com
SUMMARY:"Chic"
DESCRIPTION:Every Thursday evening\, we are CHIC!  Pull on your sequins and your best disco outfit and dance to floor filling Disco House and club R & B!  Open til 3am \nOur Cocktail Bar opens at 4pm with Happy Hours til 8pm
URL:https://freedombarsoho.com/event/chic-2024-11-14/2026-02-26/
LOCATION:Freedom Bar\, 66 Wardour Street\, London\, W1F 0TA\, United Kingdom
GEO:51.5128274;-0.1335658
X-APPLE-STRUCTURED-LOCATION;VALUE=URI;X-ADDRESS=Freedom Bar 66 Wardour Street London W1F 0TA United Kingdom;X-APPLE-RADIUS=500;X-TITLE=66 Wardour Street:geo:-0.1335658,51.5128274
END:VEVENT
END:VCALENDAR