BEGIN:VCALENDAR
VERSION:2.0
PRODID:-//Freedom Bar - ECPv6.15.20//NONSGML v1.0//EN
CALSCALE:GREGORIAN
METHOD:PUBLISH
X-WR-CALNAME:Freedom Bar
X-ORIGINAL-URL:https://freedombarsoho.com
X-WR-CALDESC:Events for Freedom Bar
REFRESH-INTERVAL;VALUE=DURATION:PT1H
X-Robots-Tag:noindex
X-PUBLISHED-TTL:PT1H
BEGIN:VTIMEZONE
TZID:Europe/London
BEGIN:DAYLIGHT
TZOFFSETFROM:+0000
TZOFFSETTO:+0100
TZNAME:BST
DTSTART:20260329T010000
END:DAYLIGHT
BEGIN:STANDARD
TZOFFSETFROM:+0100
TZOFFSETTO:+0000
TZNAME:GMT
DTSTART:20261025T010000
END:STANDARD
BEGIN:DAYLIGHT
TZOFFSETFROM:+0000
TZOFFSETTO:+0100
TZNAME:BST
DTSTART:20270328T010000
END:DAYLIGHT
BEGIN:STANDARD
TZOFFSETFROM:+0100
TZOFFSETTO:+0000
TZNAME:GMT
DTSTART:20271031T010000
END:STANDARD
BEGIN:DAYLIGHT
TZOFFSETFROM:+0000
TZOFFSETTO:+0100
TZNAME:BST
DTSTART:20280326T010000
END:DAYLIGHT
BEGIN:STANDARD
TZOFFSETFROM:+0100
TZOFFSETTO:+0000
TZNAME:GMT
DTSTART:20281029T010000
END:STANDARD
END:VTIMEZONE
BEGIN:VEVENT
DTSTART;TZID=Europe/London:20270603T220000
DTEND;TZID=Europe/London:20270604T030000
DTSTAMP:20260420T215230
CREATED:20221024T122849Z
LAST-MODIFIED:20221024T122849Z
UID:19203-1812060000-1812078000@freedombarsoho.com
SUMMARY:"Chic"
DESCRIPTION:Every Thursday evening\, we are CHIC!  Pull on your sequins and your best disco outfit and dance to floor filling Disco House and club R & B!  Open til 3am \nOur Cocktail Bar opens at 4pm with Happy Hours til 8pm
URL:https://freedombarsoho.com/event/chic-2024-11-14/2027-06-03/
LOCATION:Freedom Bar\, 66 Wardour Street\, London\, W1F 0TA\, United Kingdom
GEO:51.5128274;-0.1335658
X-APPLE-STRUCTURED-LOCATION;VALUE=URI;X-ADDRESS=Freedom Bar 66 Wardour Street London W1F 0TA United Kingdom;X-APPLE-RADIUS=500;X-TITLE=66 Wardour Street:geo:-0.1335658,51.5128274
END:VEVENT
BEGIN:VEVENT
DTSTART;TZID=Europe/London:20270607T220000
DTEND;TZID=Europe/London:20270608T030000
DTSTAMP:20260420T215230
CREATED:20241108T163119Z
LAST-MODIFIED:20250630T130648Z
UID:18965-1812405600-1812423600@freedombarsoho.com
SUMMARY:Kinky Kabaret
DESCRIPTION:The West End’s finest singers\, dancers\, and drag perform for their peers at this iconic Monday night show. \nOur cocktail Bar opens at 4pm with Happy Hours til 8pm.
URL:https://freedombarsoho.com/event/kinky-kabaret-2/2027-06-07/
LOCATION:Freedom Bar\, 66 Wardour Street\, London\, W1F 0TA\, United Kingdom
GEO:51.5128274;-0.1335658
X-APPLE-STRUCTURED-LOCATION;VALUE=URI;X-ADDRESS=Freedom Bar 66 Wardour Street London W1F 0TA United Kingdom;X-APPLE-RADIUS=500;X-TITLE=66 Wardour Street:geo:-0.1335658,51.5128274
END:VEVENT
BEGIN:VEVENT
DTSTART;TZID=Europe/London:20270610T220000
DTEND;TZID=Europe/London:20270611T030000
DTSTAMP:20260420T215230
CREATED:20221024T122849Z
LAST-MODIFIED:20221024T122849Z
UID:19204-1812664800-1812682800@freedombarsoho.com
SUMMARY:"Chic"
DESCRIPTION:Every Thursday evening\, we are CHIC!  Pull on your sequins and your best disco outfit and dance to floor filling Disco House and club R & B!  Open til 3am \nOur Cocktail Bar opens at 4pm with Happy Hours til 8pm
URL:https://freedombarsoho.com/event/chic-2024-11-14/2027-06-10/
LOCATION:Freedom Bar\, 66 Wardour Street\, London\, W1F 0TA\, United Kingdom
GEO:51.5128274;-0.1335658
X-APPLE-STRUCTURED-LOCATION;VALUE=URI;X-ADDRESS=Freedom Bar 66 Wardour Street London W1F 0TA United Kingdom;X-APPLE-RADIUS=500;X-TITLE=66 Wardour Street:geo:-0.1335658,51.5128274
END:VEVENT
BEGIN:VEVENT
DTSTART;TZID=Europe/London:20270614T220000
DTEND;TZID=Europe/London:20270615T030000
DTSTAMP:20260420T215230
CREATED:20241108T163119Z
LAST-MODIFIED:20250630T130648Z
UID:18966-1813010400-1813028400@freedombarsoho.com
SUMMARY:Kinky Kabaret
DESCRIPTION:The West End’s finest singers\, dancers\, and drag perform for their peers at this iconic Monday night show. \nOur cocktail Bar opens at 4pm with Happy Hours til 8pm.
URL:https://freedombarsoho.com/event/kinky-kabaret-2/2027-06-14/
LOCATION:Freedom Bar\, 66 Wardour Street\, London\, W1F 0TA\, United Kingdom
GEO:51.5128274;-0.1335658
X-APPLE-STRUCTURED-LOCATION;VALUE=URI;X-ADDRESS=Freedom Bar 66 Wardour Street London W1F 0TA United Kingdom;X-APPLE-RADIUS=500;X-TITLE=66 Wardour Street:geo:-0.1335658,51.5128274
END:VEVENT
BEGIN:VEVENT
DTSTART;TZID=Europe/London:20270617T220000
DTEND;TZID=Europe/London:20270618T030000
DTSTAMP:20260420T215230
CREATED:20221024T122849Z
LAST-MODIFIED:20221024T122849Z
UID:19205-1813269600-1813287600@freedombarsoho.com
SUMMARY:"Chic"
DESCRIPTION:Every Thursday evening\, we are CHIC!  Pull on your sequins and your best disco outfit and dance to floor filling Disco House and club R & B!  Open til 3am \nOur Cocktail Bar opens at 4pm with Happy Hours til 8pm
URL:https://freedombarsoho.com/event/chic-2024-11-14/2027-06-17/
LOCATION:Freedom Bar\, 66 Wardour Street\, London\, W1F 0TA\, United Kingdom
GEO:51.5128274;-0.1335658
X-APPLE-STRUCTURED-LOCATION;VALUE=URI;X-ADDRESS=Freedom Bar 66 Wardour Street London W1F 0TA United Kingdom;X-APPLE-RADIUS=500;X-TITLE=66 Wardour Street:geo:-0.1335658,51.5128274
END:VEVENT
BEGIN:VEVENT
DTSTART;TZID=Europe/London:20270621T220000
DTEND;TZID=Europe/London:20270622T030000
DTSTAMP:20260420T215230
CREATED:20241108T163119Z
LAST-MODIFIED:20250630T130648Z
UID:18967-1813615200-1813633200@freedombarsoho.com
SUMMARY:Kinky Kabaret
DESCRIPTION:The West End’s finest singers\, dancers\, and drag perform for their peers at this iconic Monday night show. \nOur cocktail Bar opens at 4pm with Happy Hours til 8pm.
URL:https://freedombarsoho.com/event/kinky-kabaret-2/2027-06-21/
LOCATION:Freedom Bar\, 66 Wardour Street\, London\, W1F 0TA\, United Kingdom
GEO:51.5128274;-0.1335658
X-APPLE-STRUCTURED-LOCATION;VALUE=URI;X-ADDRESS=Freedom Bar 66 Wardour Street London W1F 0TA United Kingdom;X-APPLE-RADIUS=500;X-TITLE=66 Wardour Street:geo:-0.1335658,51.5128274
END:VEVENT
BEGIN:VEVENT
DTSTART;TZID=Europe/London:20270624T220000
DTEND;TZID=Europe/London:20270625T030000
DTSTAMP:20260420T215230
CREATED:20221024T122849Z
LAST-MODIFIED:20221024T122849Z
UID:19206-1813874400-1813892400@freedombarsoho.com
SUMMARY:"Chic"
DESCRIPTION:Every Thursday evening\, we are CHIC!  Pull on your sequins and your best disco outfit and dance to floor filling Disco House and club R & B!  Open til 3am \nOur Cocktail Bar opens at 4pm with Happy Hours til 8pm
URL:https://freedombarsoho.com/event/chic-2024-11-14/2027-06-24/
LOCATION:Freedom Bar\, 66 Wardour Street\, London\, W1F 0TA\, United Kingdom
GEO:51.5128274;-0.1335658
X-APPLE-STRUCTURED-LOCATION;VALUE=URI;X-ADDRESS=Freedom Bar 66 Wardour Street London W1F 0TA United Kingdom;X-APPLE-RADIUS=500;X-TITLE=66 Wardour Street:geo:-0.1335658,51.5128274
END:VEVENT
BEGIN:VEVENT
DTSTART;TZID=Europe/London:20270628T220000
DTEND;TZID=Europe/London:20270629T030000
DTSTAMP:20260420T215230
CREATED:20241108T163119Z
LAST-MODIFIED:20250630T130648Z
UID:18968-1814220000-1814238000@freedombarsoho.com
SUMMARY:Kinky Kabaret
DESCRIPTION:The West End’s finest singers\, dancers\, and drag perform for their peers at this iconic Monday night show. \nOur cocktail Bar opens at 4pm with Happy Hours til 8pm.
URL:https://freedombarsoho.com/event/kinky-kabaret-2/2027-06-28/
LOCATION:Freedom Bar\, 66 Wardour Street\, London\, W1F 0TA\, United Kingdom
GEO:51.5128274;-0.1335658
X-APPLE-STRUCTURED-LOCATION;VALUE=URI;X-ADDRESS=Freedom Bar 66 Wardour Street London W1F 0TA United Kingdom;X-APPLE-RADIUS=500;X-TITLE=66 Wardour Street:geo:-0.1335658,51.5128274
END:VEVENT
END:VCALENDAR