BEGIN:VCALENDAR
VERSION:2.0
PRODID:-//Freedom Bar - ECPv6.15.20//NONSGML v1.0//EN
CALSCALE:GREGORIAN
METHOD:PUBLISH
X-WR-CALNAME:Freedom Bar
X-ORIGINAL-URL:https://freedombarsoho.com
X-WR-CALDESC:Events for Freedom Bar
REFRESH-INTERVAL;VALUE=DURATION:PT1H
X-Robots-Tag:noindex
X-PUBLISHED-TTL:PT1H
BEGIN:VTIMEZONE
TZID:Europe/London
BEGIN:DAYLIGHT
TZOFFSETFROM:+0000
TZOFFSETTO:+0100
TZNAME:BST
DTSTART:20260329T010000
END:DAYLIGHT
BEGIN:STANDARD
TZOFFSETFROM:+0100
TZOFFSETTO:+0000
TZNAME:GMT
DTSTART:20261025T010000
END:STANDARD
BEGIN:DAYLIGHT
TZOFFSETFROM:+0000
TZOFFSETTO:+0100
TZNAME:BST
DTSTART:20270328T010000
END:DAYLIGHT
BEGIN:STANDARD
TZOFFSETFROM:+0100
TZOFFSETTO:+0000
TZNAME:GMT
DTSTART:20271031T010000
END:STANDARD
BEGIN:DAYLIGHT
TZOFFSETFROM:+0000
TZOFFSETTO:+0100
TZNAME:BST
DTSTART:20280326T010000
END:DAYLIGHT
BEGIN:STANDARD
TZOFFSETFROM:+0100
TZOFFSETTO:+0000
TZNAME:GMT
DTSTART:20281029T010000
END:STANDARD
END:VTIMEZONE
BEGIN:VEVENT
DTSTART;TZID=Europe/London:20270701T220000
DTEND;TZID=Europe/London:20270702T030000
DTSTAMP:20260420T233908
CREATED:20221024T122849Z
LAST-MODIFIED:20221024T122849Z
UID:19207-1814479200-1814497200@freedombarsoho.com
SUMMARY:"Chic"
DESCRIPTION:Every Thursday evening\, we are CHIC!  Pull on your sequins and your best disco outfit and dance to floor filling Disco House and club R & B!  Open til 3am \nOur Cocktail Bar opens at 4pm with Happy Hours til 8pm
URL:https://freedombarsoho.com/event/chic-2024-11-14/2027-07-01/
LOCATION:Freedom Bar\, 66 Wardour Street\, London\, W1F 0TA\, United Kingdom
GEO:51.5128274;-0.1335658
X-APPLE-STRUCTURED-LOCATION;VALUE=URI;X-ADDRESS=Freedom Bar 66 Wardour Street London W1F 0TA United Kingdom;X-APPLE-RADIUS=500;X-TITLE=66 Wardour Street:geo:-0.1335658,51.5128274
END:VEVENT
BEGIN:VEVENT
DTSTART;TZID=Europe/London:20270705T220000
DTEND;TZID=Europe/London:20270706T030000
DTSTAMP:20260420T233908
CREATED:20241108T163119Z
LAST-MODIFIED:20241108T163119Z
UID:19209-1814824800-1814842800@freedombarsoho.com
SUMMARY:Kinky Kabaret
DESCRIPTION:The West End’s finest singers\, dancers\, and drag perform for their peers at this iconic Monday night show. \nOur cocktail Bar opens at 4pm with Happy Hours til 8pm.
URL:https://freedombarsoho.com/event/kinky-kabaret-2/2027-07-05/
LOCATION:Freedom Bar\, 66 Wardour Street\, London\, W1F 0TA\, United Kingdom
GEO:51.5128274;-0.1335658
X-APPLE-STRUCTURED-LOCATION;VALUE=URI;X-ADDRESS=Freedom Bar 66 Wardour Street London W1F 0TA United Kingdom;X-APPLE-RADIUS=500;X-TITLE=66 Wardour Street:geo:-0.1335658,51.5128274
END:VEVENT
BEGIN:VEVENT
DTSTART;TZID=Europe/London:20270712T220000
DTEND;TZID=Europe/London:20270713T030000
DTSTAMP:20260420T233908
CREATED:20241108T163119Z
LAST-MODIFIED:20241108T163119Z
UID:19211-1815429600-1815447600@freedombarsoho.com
SUMMARY:Kinky Kabaret
DESCRIPTION:The West End’s finest singers\, dancers\, and drag perform for their peers at this iconic Monday night show. \nOur cocktail Bar opens at 4pm with Happy Hours til 8pm.
URL:https://freedombarsoho.com/event/kinky-kabaret-2/2027-07-12/
LOCATION:Freedom Bar\, 66 Wardour Street\, London\, W1F 0TA\, United Kingdom
GEO:51.5128274;-0.1335658
X-APPLE-STRUCTURED-LOCATION;VALUE=URI;X-ADDRESS=Freedom Bar 66 Wardour Street London W1F 0TA United Kingdom;X-APPLE-RADIUS=500;X-TITLE=66 Wardour Street:geo:-0.1335658,51.5128274
END:VEVENT
BEGIN:VEVENT
DTSTART;TZID=Europe/London:20270719T220000
DTEND;TZID=Europe/London:20270720T030000
DTSTAMP:20260420T233908
CREATED:20241108T163119Z
LAST-MODIFIED:20241108T163119Z
UID:19213-1816034400-1816052400@freedombarsoho.com
SUMMARY:Kinky Kabaret
DESCRIPTION:The West End’s finest singers\, dancers\, and drag perform for their peers at this iconic Monday night show. \nOur cocktail Bar opens at 4pm with Happy Hours til 8pm.
URL:https://freedombarsoho.com/event/kinky-kabaret-2/2027-07-19/
LOCATION:Freedom Bar\, 66 Wardour Street\, London\, W1F 0TA\, United Kingdom
GEO:51.5128274;-0.1335658
X-APPLE-STRUCTURED-LOCATION;VALUE=URI;X-ADDRESS=Freedom Bar 66 Wardour Street London W1F 0TA United Kingdom;X-APPLE-RADIUS=500;X-TITLE=66 Wardour Street:geo:-0.1335658,51.5128274
END:VEVENT
BEGIN:VEVENT
DTSTART;TZID=Europe/London:20270726T220000
DTEND;TZID=Europe/London:20270727T030000
DTSTAMP:20260420T233908
CREATED:20241108T163119Z
LAST-MODIFIED:20241108T163119Z
UID:19215-1816639200-1816657200@freedombarsoho.com
SUMMARY:Kinky Kabaret
DESCRIPTION:The West End’s finest singers\, dancers\, and drag perform for their peers at this iconic Monday night show. \nOur cocktail Bar opens at 4pm with Happy Hours til 8pm.
URL:https://freedombarsoho.com/event/kinky-kabaret-2/2027-07-26/
LOCATION:Freedom Bar\, 66 Wardour Street\, London\, W1F 0TA\, United Kingdom
GEO:51.5128274;-0.1335658
X-APPLE-STRUCTURED-LOCATION;VALUE=URI;X-ADDRESS=Freedom Bar 66 Wardour Street London W1F 0TA United Kingdom;X-APPLE-RADIUS=500;X-TITLE=66 Wardour Street:geo:-0.1335658,51.5128274
END:VEVENT
END:VCALENDAR