BEGIN:VCALENDAR
VERSION:2.0
PRODID:-//Freedom Bar - ECPv6.15.20//NONSGML v1.0//EN
CALSCALE:GREGORIAN
METHOD:PUBLISH
X-ORIGINAL-URL:https://freedombarsoho.com
X-WR-CALDESC:Events for Freedom Bar
REFRESH-INTERVAL;VALUE=DURATION:PT1H
X-Robots-Tag:noindex
X-PUBLISHED-TTL:PT1H
BEGIN:VTIMEZONE
TZID:Europe/London
BEGIN:DAYLIGHT
TZOFFSETFROM:+0000
TZOFFSETTO:+0100
TZNAME:BST
DTSTART:20260329T010000
END:DAYLIGHT
BEGIN:STANDARD
TZOFFSETFROM:+0100
TZOFFSETTO:+0000
TZNAME:GMT
DTSTART:20261025T010000
END:STANDARD
BEGIN:DAYLIGHT
TZOFFSETFROM:+0000
TZOFFSETTO:+0100
TZNAME:BST
DTSTART:20270328T010000
END:DAYLIGHT
BEGIN:STANDARD
TZOFFSETFROM:+0100
TZOFFSETTO:+0000
TZNAME:GMT
DTSTART:20271031T010000
END:STANDARD
BEGIN:DAYLIGHT
TZOFFSETFROM:+0000
TZOFFSETTO:+0100
TZNAME:BST
DTSTART:20280326T010000
END:DAYLIGHT
BEGIN:STANDARD
TZOFFSETFROM:+0100
TZOFFSETTO:+0000
TZNAME:GMT
DTSTART:20281029T010000
END:STANDARD
END:VTIMEZONE
BEGIN:VEVENT
DTSTART;TZID=Europe/London:20270906T220000
DTEND;TZID=Europe/London:20270907T030000
DTSTAMP:20260421T031355
CREATED:20241108T163119Z
LAST-MODIFIED:20241108T163119Z
UID:19279-1820268000-1820286000@freedombarsoho.com
SUMMARY:Kinky Kabaret
DESCRIPTION:The West End’s finest singers\, dancers\, and drag perform for their peers at this iconic Monday night show. \nOur cocktail Bar opens at 4pm with Happy Hours til 8pm.
URL:https://freedombarsoho.com/event/kinky-kabaret-2/2027-09-06/
LOCATION:Freedom Bar\, 66 Wardour Street\, London\, W1F 0TA\, United Kingdom
GEO:51.5128274;-0.1335658
X-APPLE-STRUCTURED-LOCATION;VALUE=URI;X-ADDRESS=Freedom Bar 66 Wardour Street London W1F 0TA United Kingdom;X-APPLE-RADIUS=500;X-TITLE=66 Wardour Street:geo:-0.1335658,51.5128274
END:VEVENT
BEGIN:VEVENT
DTSTART;TZID=Europe/London:20270913T220000
DTEND;TZID=Europe/London:20270914T030000
DTSTAMP:20260421T031355
CREATED:20241108T163119Z
LAST-MODIFIED:20241108T163119Z
UID:19281-1820872800-1820890800@freedombarsoho.com
SUMMARY:Kinky Kabaret
DESCRIPTION:The West End’s finest singers\, dancers\, and drag perform for their peers at this iconic Monday night show. \nOur cocktail Bar opens at 4pm with Happy Hours til 8pm.
URL:https://freedombarsoho.com/event/kinky-kabaret-2/2027-09-13/
LOCATION:Freedom Bar\, 66 Wardour Street\, London\, W1F 0TA\, United Kingdom
GEO:51.5128274;-0.1335658
X-APPLE-STRUCTURED-LOCATION;VALUE=URI;X-ADDRESS=Freedom Bar 66 Wardour Street London W1F 0TA United Kingdom;X-APPLE-RADIUS=500;X-TITLE=66 Wardour Street:geo:-0.1335658,51.5128274
END:VEVENT
BEGIN:VEVENT
DTSTART;TZID=Europe/London:20270920T220000
DTEND;TZID=Europe/London:20270921T030000
DTSTAMP:20260421T031355
CREATED:20241108T163119Z
LAST-MODIFIED:20241108T163119Z
UID:19283-1821477600-1821495600@freedombarsoho.com
SUMMARY:Kinky Kabaret
DESCRIPTION:The West End’s finest singers\, dancers\, and drag perform for their peers at this iconic Monday night show. \nOur cocktail Bar opens at 4pm with Happy Hours til 8pm.
URL:https://freedombarsoho.com/event/kinky-kabaret-2/2027-09-20/
LOCATION:Freedom Bar\, 66 Wardour Street\, London\, W1F 0TA\, United Kingdom
GEO:51.5128274;-0.1335658
X-APPLE-STRUCTURED-LOCATION;VALUE=URI;X-ADDRESS=Freedom Bar 66 Wardour Street London W1F 0TA United Kingdom;X-APPLE-RADIUS=500;X-TITLE=66 Wardour Street:geo:-0.1335658,51.5128274
END:VEVENT
BEGIN:VEVENT
DTSTART;TZID=Europe/London:20270927T220000
DTEND;TZID=Europe/London:20270928T030000
DTSTAMP:20260421T031355
CREATED:20241108T163119Z
LAST-MODIFIED:20241108T163119Z
UID:19290-1822082400-1822100400@freedombarsoho.com
SUMMARY:Kinky Kabaret
DESCRIPTION:The West End’s finest singers\, dancers\, and drag perform for their peers at this iconic Monday night show. \nOur cocktail Bar opens at 4pm with Happy Hours til 8pm.
URL:https://freedombarsoho.com/event/kinky-kabaret-2/2027-09-27/
LOCATION:Freedom Bar\, 66 Wardour Street\, London\, W1F 0TA\, United Kingdom
GEO:51.5128274;-0.1335658
X-APPLE-STRUCTURED-LOCATION;VALUE=URI;X-ADDRESS=Freedom Bar 66 Wardour Street London W1F 0TA United Kingdom;X-APPLE-RADIUS=500;X-TITLE=66 Wardour Street:geo:-0.1335658,51.5128274
END:VEVENT
END:VCALENDAR